BEGIN:VCALENDAR
VERSION:2.0
PRODID:-//ChamberMaster//Event Calendar 2.0//EN
METHOD:PUBLISH
X-PUBLISHED-TTL:P3D
REFRESH-INTERVAL:P3D
CALSCALE:GREGORIAN
BEGIN:VEVENT
DTSTART:20191012T133000Z
DTEND:20191012T153000Z
X-MICROSOFT-CDO-ALLDAYEVENT:FALSE
SUMMARY:Foster Hope 5K & 1 Mile Run
DESCRIPTION:Foster Hope 5K & 1 Mile Fundraiser\n\nKindred Family Focus\n\nJoin us for the Foster Hope Run (formerly the Fergus Falls Turkey Trot) to support foster and adoptive families in Northwestern Minnesota\n\nBreakfast & fun activities for kids provided post race
X-ALT-DESC;FMTTYPE=text/html:Foster Hope 5K &amp\; 1 Mile Fundraiser<br />\nKindred Family Focus<br />\nJoin us for the Foster Hope Run (formerly the Fergus Falls Turkey Trot) to support foster and adoptive families in Northwestern Minnesota<br />\nBreakfast &amp\; fun activities for kids provided post race
LOCATION:Fergus Falls
UID:e.314.54539
SEQUENCE:3
DTSTAMP:20260422T203906Z
URL:https://business.fergusfalls.com/events/details/foster-hope-5k-1-mile-run-54539
END:VEVENT

END:VCALENDAR
