BEGIN:VCALENDAR
VERSION:2.0
PRODID:-//ChamberMaster//Event Calendar 2.0//EN
METHOD:PUBLISH
X-PUBLISHED-TTL:P3D
REFRESH-INTERVAL:P3D
CALSCALE:GREGORIAN
BEGIN:VEVENT
DTSTART;VALUE=DATE:20210616
DTEND;VALUE=DATE:20210619
TRANSP:TRANSPARENT
X-MICROSOFT-CDO-ALLDAYEVENT:TRUE
SUMMARY:Free Furniture!!
DESCRIPTION:We are moving out of the Fergus Falls Armory for a remodel this summer. Through this Friday we will be putting furniture out on our berm free to the public\, first come first served! WE have couches\, chairs\, desks\, tables and much more!
X-ALT-DESC;FMTTYPE=text/html:<span style="font-size:16px\;"><span style="font-family:tahoma\;">We are moving out of the Fergus Falls Armory for a remodel this summer. Through this Friday we will be putting furniture out on our berm free to the public\, first come first served! WE have couches\, chairs\, desks\, tables and much more!</span></span>
LOCATION:Armory 421 E Cecil Ave. Fergus Falls MN 56537
UID:e.314.62416
SEQUENCE:3
DTSTAMP:20260421T123645Z
URL:https://business.fergusfalls.com/events/details/free-furniture-62416
END:VEVENT

END:VCALENDAR
