BEGIN:VCALENDAR
VERSION:2.0
PRODID:-//ChamberMaster//Event Calendar 2.0//EN
METHOD:PUBLISH
X-PUBLISHED-TTL:P3D
REFRESH-INTERVAL:P3D
CALSCALE:GREGORIAN
BEGIN:VEVENT
DTSTART:20190427T150000Z
DTEND:20190427T190000Z
X-MICROSOFT-CDO-ALLDAYEVENT:FALSE
SUMMARY:Free Health Screenings
DESCRIPTION:Walmart - Fergus Falls - Wellness Day\n\nFree Health Screenings\n\nApril 27th\n\n10am-2pm
X-ALT-DESC;FMTTYPE=text/html:Walmart - Fergus Falls - Wellness Day<br />\nFree Health Screenings<br />\nApril 27th<br />\n10am-2pm
LOCATION:
UID:e.314.53880
SEQUENCE:3
DTSTAMP:20260423T075547Z
URL:https://business.fergusfalls.com/events/details/free-health-screenings-53880
END:VEVENT

END:VCALENDAR
