BEGIN:VCALENDAR
VERSION:2.0
PRODID:-//ChamberMaster//Event Calendar 2.0//EN
METHOD:PUBLISH
X-PUBLISHED-TTL:P3D
REFRESH-INTERVAL:P3D
CALSCALE:GREGORIAN
BEGIN:VEVENT
DTSTART:20160407T170000Z
DTEND:20160407T180000Z
X-MICROSOFT-CDO-ALLDAYEVENT:FALSE
SUMMARY:FREE Lunch & Learn: How to Use Digital Advertising
DESCRIPTION:FREE LUNCH & LEARN: HOW TO USE DIGITAL ADVERTISING\n\nThursday\, April 7th\n\nNoon - 1pm\n\nLunch will be provided\n\n\n\nPlease register: Phone: 218.346.8653 or Online: smartsearch.info/learn\n\n \n\nEFFECTIVE DIGITAL ADVERTISING FOR YOUR BUSINESS\n\nLearn how to market your business digitally through banner ads\, YouTube pre-roll videos and a custom web site. Find out if your web site meets the latest mobile design and search criteria of Google. We'll also compare traditional web site design vs. modern sites of today.
X-ALT-DESC;FMTTYPE=text/html:FREE LUNCH &amp\; LEARN: HOW TO USE DIGITAL ADVERTISING<br />\nThursday\, April 7th<br />\nNoon - 1pm<br />\nLunch will be provided<br />\n<br />\n<strong><span style="color:#000000\;">Please register: Phone: 218.346.8653 or Online: </span><a href="http://smartsearch.info/learn"><span style="color:#000000\;">smartsearch.info/learn</span></a></strong><br />\n&nbsp\;<br />\nEFFECTIVE DIGITAL ADVERTISING FOR YOUR BUSINESS<br />\nLearn how to market your business digitally through banner ads\, YouTube pre-roll videos and a custom web site. Find out if your web site meets the latest mobile design and search criteria of Google. We&rsquo\;ll also compare traditional web site design vs. modern sites of today.
LOCATION:Bigwood Event Center Ferber East Conference Room 925 Western Avenue\, Fergus Falls
UID:e.314.31113
SEQUENCE:3
DTSTAMP:20260425T163248Z
URL:https://business.fergusfalls.com/events/details/free-lunch-learn-how-to-use-digital-advertising-04-07-2016-31113
END:VEVENT

END:VCALENDAR
