BEGIN:VCALENDAR
VERSION:2.0
PRODID:-//ChamberMaster//Event Calendar 2.0//EN
METHOD:PUBLISH
X-PUBLISHED-TTL:P3D
REFRESH-INTERVAL:P3D
CALSCALE:GREGORIAN
BEGIN:VEVENT
DTSTART:20180420T233000Z
DTEND:20180421T013000Z
X-MICROSOFT-CDO-ALLDAYEVENT:FALSE
SUMMARY:Free Movie for Earth Day
DESCRIPTION:Free Movie showing to celebrate Earth Day sponsored by Otter Tail County Solid Waste Dept. at A Center For The Arts. This Documentary "No Impact Man" follows a family as they transition to a zero waste lifestyle. There will also be a brief discussion to follow.
X-ALT-DESC;FMTTYPE=text/html:Free Movie showing to celebrate Earth Day sponsored by Otter Tail County Solid Waste Dept. at A Center For The Arts. This Documentary &quot\;No Impact Man&quot\; follows a family as they transition to a zero waste lifestyle. There will also be a brief discussion to follow.
LOCATION:124 W. Lincoln Ave. Fergus Falls\, MN
UID:e.314.47439
SEQUENCE:3
DTSTAMP:20260423T235810Z
URL:https://business.fergusfalls.com/events/details/free-movie-for-earth-day-47439
END:VEVENT

END:VCALENDAR
