BEGIN:VCALENDAR
VERSION:2.0
PRODID:-//ChamberMaster//Event Calendar 2.0//EN
METHOD:PUBLISH
X-PUBLISHED-TTL:P3D
REFRESH-INTERVAL:P3D
CALSCALE:GREGORIAN
BEGIN:VEVENT
DTSTART:20160707T150000Z
DTEND:20160707T200000Z
X-MICROSOFT-CDO-ALLDAYEVENT:FALSE
SUMMARY:Free Nitrate Water Testing Clinic
DESCRIPTION:The West Otter Tail SWCD in partnership with the Minnesota Department of Ag will offer a free nitrate water testing clinic for homeowners with private well systems. Location is at 506 Western Ave N in Fergus Falls. Located in the USDA Government Service Center building across from the Comfort Inn.\n\nTo participate\, homeowners are asked to bring at least 1/2 cup of water. To get a good sample allow tap to run for 5 - 10 minutes\n\nSamples will be analyed on site and results will be given directly to homeowner. Process usually takes less than 5 mins.\n\nFor more information contact Mary Jensen at 218-739-4694. ext 4
X-ALT-DESC;FMTTYPE=text/html:<span style="color: rgb(75\, 79\, 86)\; font-family: helvetica\, arial\, sans-serif\; font-size: 14px\; line-height: 18.76px\;">The West Otter Tail SWCD in partnership with the Minnesota Department of Ag will offer a free nitrate water testing clinic for homeowners with private well systems. Location is at 506 Western Ave N in Fergus Falls. Located in the USDA Government Service Center building across from the Comfort Inn.</span><br style="color: rgb(75\, 79\, 86)\; font-family: helvetica\, arial\, sans-serif\; font-size: 14px\; line-height: 18.76px\;" />\n<span style="color: rgb(75\, 79\, 86)\; font-family: helvetica\, arial\, sans-serif\; font-size: 14px\; line-height: 18.76px\;">To participate\, homeowners are asked to bring at least 1/2 cup of water. To get a good sample allow tap to run for 5 - 10 minutes</span><br style="color: rgb(75\, 79\, 86)\; font-family: helvetica\, arial\, sans-serif\; font-size: 14px\; line-height: 18.76px\;" />\n<span style="color: rgb(75\, 79\, 86)\; font-family: helvetica\, arial\, sans-serif\; font-size: 14px\; line-height: 18.76px\;">Samples will be analyed on site and results will be given directly to homeowner. Process usually takes less than 5 mins.</span><br style="color: rgb(75\, 79\, 86)\; font-family: helvetica\, arial\, sans-serif\; font-size: 14px\; line-height: 18.76px\;" />\n<span style="color: rgb(75\, 79\, 86)\; font-family: helvetica\, arial\, sans-serif\; font-size: 14px\; line-height: 18.76px\;">For more information contact Mary Jensen at 218-739-4694. ext 4</span>
LOCATION:506 Western Ave N Fergus Falls\, MN 56537
UID:e.314.32922
SEQUENCE:3
DTSTAMP:20260425T110230Z
URL:https://business.fergusfalls.com/events/details/free-nitrate-water-testing-clinic-07-07-2016-32922
END:VEVENT

END:VCALENDAR
