BEGIN:VCALENDAR
VERSION:2.0
PRODID:-//ChamberMaster//Event Calendar 2.0//EN
METHOD:PUBLISH
X-PUBLISHED-TTL:P3D
REFRESH-INTERVAL:P3D
CALSCALE:GREGORIAN
BEGIN:VEVENT
DTSTART:20190312T143000Z
DTEND:20190312T220000Z
X-MICROSOFT-CDO-ALLDAYEVENT:FALSE
SUMMARY:FREE Tax Preparation
DESCRIPTION:FREE Tax Preparation for Low to Moderate Income workers and senior citizens.\n\nCall for appointment: 218-739-3011\n\nBring: copy of last year's taxes\, photo ID\, social security card. \n\nMarried couples must both be present or bring Power of Attorney\n\n\n\nSponsored by Mahube-Otwa\, AARP\, IRS\, MN Dept. of Revenue
X-ALT-DESC;FMTTYPE=text/html:FREE Tax Preparation for Low to Moderate Income workers and senior citizens.<br>\nCall for appointment: 218-739-3011<br>\nBring: copy of last year's taxes\, photo ID\, social security card.&nbsp\;<br>\nMarried couples must both be present or bring Power of Attorney<br>\n<br>\nSponsored by Mahube-Otwa\, AARP\, IRS\, MN Dept. of Revenue
LOCATION:Salvation Army 622 E. Vernon Ave. Fergus Falls\, MN
UID:e.314.52552
SEQUENCE:3
DTSTAMP:20260423T080439Z
URL:https://business.fergusfalls.com/events/details/free-tax-preparation-03-12-2019-52552
END:VEVENT

END:VCALENDAR
