BEGIN:VCALENDAR
VERSION:2.0
PRODID:-//ChamberMaster//Event Calendar 2.0//EN
METHOD:PUBLISH
X-PUBLISHED-TTL:P3D
REFRESH-INTERVAL:P3D
CALSCALE:GREGORIAN
BEGIN:VEVENT
DTSTART:20200326T200000Z
DTEND:20200326T210000Z
X-MICROSOFT-CDO-ALLDAYEVENT:FALSE
SUMMARY:FREE Webinar: Crisis Marketing Strategies for Local Businesses
DESCRIPTION:CRISIS MARKETING - STRATEGIES FOR LOCAL BUSINESSes -- FREE WEBINAR\nLeighton Broadcasting realizes our local communities and in particular\, our local businesses are facing challenging times. Their family of radio stations is committed to continuing our service to our local broadcast communities through ongoing news and local updates as well as access to resources like Borrell Associates. Borrell is a third party research expert who provides valuable insights and suggestions on how advertisers can and should communicate with their consumers.\n\n\n\nThe focus of the webinar is on: \n\n\n	How to communicate with customers and the community\n	How to craft creative and appropriate marketing messages\n	Common concerns and opportunities local businesses are facing\n\nThere will be an opportunity for attendees to ask questions and are encouraged to ask specific questions for their business. \n\n \n\nRegistration to this FREE 45-minute webinar is limited. REGISTER here: https://radiomarketing.leightonbroadcasting.com/crisis-marketing-webinar\n\n\n\nAttendees will have the chance to ask the marketing experts questions or ask the experts for ideas about their specific business. \n\n\n\nWe will continue to serve\, connect and celebrate our communities and together we will overcome.
X-ALT-DESC;FMTTYPE=text/html:<h2 style="margin-top:9.0pt\;margin-right:0in\;margin-bottom:9.0pt\;margin-left:0in\;background:white\;"><span style="font-size:14px\;"><strong><span style="color:#000000\;"><span style="font-family:verdana\;"><span style="text-transform:uppercase\;">CRISIS MARKETING - STRATEGIES FOR LOCAL BUSINESSes -- FREE WEBINAR</span></span></span></strong></span></h2>\n<span style="color:#000000\;"><span style="font-size:12px\;"><span style="font-family:verdana\;">Leighton Broadcasting realizes our local communities and in particular\, our local businesses are facing challenging times. Their family of radio stations is committed to continuing our service to our local broadcast communities through ongoing news and local updates as well as access to resources like Borrell Associates. Borrell is a third party research expert who provides valuable insights and suggestions on how advertisers can and should communicate with their consumers.<br />\n<br />\nThe focus of the webinar is on: </span></span></span>\n\n<ul>\n	<li style="background:white\;"><span style="color:#000000\;"><span style="font-size:12px\;"><span style="font-family:verdana\;">How to communicate with customers and the community</span></span></span></li>\n	<li style="background:white\;"><span style="color:#000000\;"><span style="font-size:12px\;"><span style="font-family:verdana\;">How to craft creative and appropriate marketing messages</span></span></span></li>\n	<li style="background:white\;"><span style="color:#000000\;"><span style="font-size:12px\;"><span style="font-family:verdana\;">Common concerns and opportunities local businesses are facing</span></span></span></li>\n</ul>\n<span style="font-size:12px\;"><span style="font-family:verdana\;"><span style="color:#000000\;">There will be an opportunity for attendees to ask questions and are encouraged to ask specific questions for their business.&nbsp\;<br />\n&nbsp\;<br />\nRegistration to this FREE 45-minute webinar is limited. REGISTER here:&nbsp\;</span><strong><a href="https://radiomarketing.leightonbroadcasting.com/crisis-marketing-webinar" style="box-sizing:border-box\;" target="_blank"><span style="color:#000000\;"><span style="background-color:#FFFF00\;">https://radiomarketing.leightonbroadcasting.com/crisis-marketing-webinar</span></span></a></strong><br />\n<br />\n<span style="color:#000000\;">Attendees will have the chance to ask the marketing experts questions or ask the experts for ideas about their specific business.&nbsp\;<br style="box-sizing:border-box\;" />\n<br />\nWe will continue to serve\, connect and celebrate our communities and together we will overcome.</span></span></span><br />\n&nbsp\;
LOCATION:ONLINE: https://radiomarketing.leightonbroadcasting.com/crisis-marketing-webinar
UID:e.314.57365
SEQUENCE:3
DTSTAMP:20260422T143356Z
URL:https://business.fergusfalls.com/events/details/free-webinar-crisis-marketing-strategies-for-local-businesses-57365
END:VEVENT

END:VCALENDAR
