BEGIN:VCALENDAR
VERSION:2.0
PRODID:-//ChamberMaster//Event Calendar 2.0//EN
METHOD:PUBLISH
X-PUBLISHED-TTL:P3D
REFRESH-INTERVAL:P3D
CALSCALE:GREGORIAN
BEGIN:VEVENT
DTSTART:20160521T150000Z
DTEND:20160521T160000Z
X-MICROSOFT-CDO-ALLDAYEVENT:FALSE
SUMMARY:Free Workout Saturday - Anytime Fitness
DESCRIPTION:Come join Anytime Fitness Saturday's in May at NP park for a FUN paced workout! They will provide water and be handing out Anytime Fitness T shirts! Bring the whole family! There will also be a quick workout for the kidos! The park is there for the kids not interested. They will not be providing supervisoin on the playground however. The forcast looks right so come join Anytime Fitness!!
X-ALT-DESC;FMTTYPE=text/html:<span style="color: rgb(75\, 79\, 86)\; font-family: helvetica\, arial\, sans-serif\; font-size: 14px\; line-height: 18.76px\;">Come join Anytime Fitness Saturday&#39\;s in May at NP park for a FUN paced workout! They will provide water and be handing out Anytime Fitness T shirts! Bring the whole family! There will also be a quick workout for the kidos! The park is there for the kids not interested. They will not be providing supervisoin on the playground however. The forcast looks right so come join Anytime Fitness!!</span>
LOCATION:N P Park
UID:e.314.32732
SEQUENCE:3
DTSTAMP:20260425T150258Z
URL:https://business.fergusfalls.com/events/details/free-workout-saturday-anytime-fitness-05-21-2016-32732
END:VEVENT

END:VCALENDAR
