BEGIN:VCALENDAR
VERSION:2.0
PRODID:-//ChamberMaster//Event Calendar 2.0//EN
METHOD:PUBLISH
X-PUBLISHED-TTL:P3D
REFRESH-INTERVAL:P3D
CALSCALE:GREGORIAN
BEGIN:VEVENT
DTSTART:20160401T180000Z
DTEND:20160401T193000Z
X-MICROSOFT-CDO-ALLDAYEVENT:FALSE
SUMMARY:Freedom in Action Celebrating Spring!
DESCRIPTION:Join Freedom in Action and Celebrate Spring!\n\nWe will be painting pots and planting flowers!\n\n \n\nApril 1\, 2016 \n\n1:00pm to 2:30pm\n\n \n\nLincoln Center Building 125 W. Lincoln Ave. Fergus Falls\, MN\n\nConference Room #3 (back hallway)\n\nPlease call Tanya Stoll at 218-998-1799 to register\n\nEvent is FREE
X-ALT-DESC;FMTTYPE=text/html:<strong><span style="font-size: 36pt\;"><span style="font-family: calibri\;">Join Freedom in Action and Celebrate Spring!</span></span></strong><br />\n<span style="font-size: 20pt\;"><span style="font-family: calibri\;">We will be painting pots and planting flowers!</span></span><br />\n&nbsp\;<br />\n<span style="font-size: 16pt\;"><span style="font-family: calibri\;">April 1\, 2016 </span></span><br />\n<span style="font-size: 16pt\;"><span style="font-family: calibri\;">1:00pm to 2:30pm</span></span><br />\n&nbsp\;<br />\n<span style="font-size: 16pt\;"><span style="font-family: calibri\;">Lincoln Center Building 125 W. Lincoln Ave. Fergus Falls\, MN</span></span><br />\n<span style="font-size: 16pt\;"><span style="font-family: calibri\;">Conference Room #3 (back hallway)</span></span><br />\n<span style="font-size: 16pt\;"><span style="font-family: calibri\;">Please call Tanya Stoll at 218-998-1799 to register</span></span><br />\n<span style="font-size: 16pt\;"><span style="font-family: calibri\;">Event is <em>FREE</em></span></span><br />\n<br />\n&nbsp\;
LOCATION:Lincoln Center Building 125 W. Lincoln Ave. Fergus Falls\, MN Conference Room #3 (back hallway)
UID:e.314.32065
SEQUENCE:3
DTSTAMP:20260425T162909Z
URL:https://business.fergusfalls.com/events/details/freedom-in-action-celebrating-spring-04-01-2016-32065
END:VEVENT

END:VCALENDAR
