BEGIN:VCALENDAR
VERSION:2.0
PRODID:-//ChamberMaster//Event Calendar 2.0//EN
METHOD:PUBLISH
X-PUBLISHED-TTL:P3D
REFRESH-INTERVAL:P3D
CALSCALE:GREGORIAN
BEGIN:VEVENT
DTSTART:20161115T210000Z
DTEND:20161115T223000Z
X-MICROSOFT-CDO-ALLDAYEVENT:FALSE
SUMMARY:Freedom in Action Inspiration Blocks
DESCRIPTION:Freedom in Action\n\nInspiration Blocks\n\n\n\nPicture source: http://trashycrafter.com/building-blocks-of-life-recycled-art-that-inspires/\n\n \n\n125 West. Lincoln Ave. Conference Room #3\n\nFergus Falls\, MN 56537\n\nNovember 15\, 2016\n\n3:00 p.m. to 4:30 p.m.\n\nCall Tanya at 218-998-1799 to Register. Space is Limited. Free event.
X-ALT-DESC;FMTTYPE=text/html:<span style="font-size: 28pt\;"><span style="font-family: times new roman\,serif\;">Freedom in Action</span></span><br />\n<span style="font-size: 28pt\;"><span style="font-family: calibri\;">Inspiration Blocks</span></span><br />\n<br />\n<span style="font-size: 8pt\;"><span style="font-family: calibri\;">Picture source: http://trashycrafter.com/building-blocks-of-life-recycled-art-that-inspires/</span></span><br />\n&nbsp\;<br />\n<span style="font-size: 16pt\;"><span style="font-family: calibri\;">125 West. Lincoln Ave. Conference Room #3</span></span><br />\n<span style="font-size: 16pt\;"><span style="font-family: calibri\;">Fergus Falls\, MN 56537</span></span><br />\n<span style="font-size: 16pt\;"><span style="font-family: calibri\;">November 15\, 2016</span></span><br />\n<span style="font-size: 16pt\;"><span style="font-family: calibri\;">3:00 p.m. to 4:30 p.m.</span></span><br />\n<span style="font-size: 16pt\;"><span style="font-family: calibri\;">Call Tanya at 218-998-1799 to Register. Space is Limited. Free event.</span></span><br />\n<br />\n&nbsp\;
LOCATION:125 West. Lincoln Ave. Conference Room #3 Fergus Falls\, MN 56537
UID:e.314.36611
SEQUENCE:3
DTSTAMP:20260425T035751Z
URL:https://business.fergusfalls.com/events/details/freedom-in-action-inspiration-blocks-36611
END:VEVENT

END:VCALENDAR
