BEGIN:VCALENDAR
VERSION:2.0
PRODID:-//ChamberMaster//Event Calendar 2.0//EN
METHOD:PUBLISH
X-PUBLISHED-TTL:P3D
REFRESH-INTERVAL:P3D
CALSCALE:GREGORIAN
BEGIN:VEVENT
DTSTART:20171214T200000Z
DTEND:20171214T210000Z
X-MICROSOFT-CDO-ALLDAYEVENT:FALSE
SUMMARY:Freedom in Action: Mason Jar Cookie Gifts
DESCRIPTION:Freedom will provide 2 jars and ingredients to each registered participant to make and take home.
X-ALT-DESC;FMTTYPE=text/html:Freedom will provide 2 jars and ingredients to each registered participant to make and take home.
LOCATION:Freedom Resource Center 125 W. Lincoln Ave. Conference Room #3 Fergus Falls MN 56537
UID:e.314.42874
SEQUENCE:3
DTSTAMP:20260424T074455Z
URL:https://business.fergusfalls.com/events/details/freedom-in-action-mason-jar-cookie-gifts-42874
END:VEVENT

END:VCALENDAR
