BEGIN:VCALENDAR
VERSION:2.0
PRODID:-//ChamberMaster//Event Calendar 2.0//EN
METHOD:PUBLISH
X-PUBLISHED-TTL:P3D
REFRESH-INTERVAL:P3D
CALSCALE:GREGORIAN
BEGIN:VEVENT
DTSTART:20171031T170000Z
DTEND:20171031T190000Z
X-MICROSOFT-CDO-ALLDAYEVENT:FALSE
SUMMARY:Freedom in Action: T-Shirt bags
DESCRIPTION:We will be getting together to make t-shirt bags. We will also be celebrating Halloween! FRC will provide 2 t-shirt per registered attendee\, but you are welcome to bring your own as well! Please call 218-998-1799 or email marief@freedomrc.org to register.
X-ALT-DESC;FMTTYPE=text/html:We will be getting together to make t-shirt bags. We will also be celebrating Halloween! FRC will provide 2 t-shirt per registered&nbsp\;attendee\, but you are welcome to bring your own as well! Please call 218-998-1799 or email marief@freedomrc.org to register.&nbsp\;
LOCATION:Freedom Resource Center 125 W. Lincoln Ave. Conference Room #3 Fergus Falls MN 56537
UID:e.314.42872
SEQUENCE:3
DTSTAMP:20260424T093151Z
URL:https://business.fergusfalls.com/events/details/freedom-in-action-t-shirt-bags-42872
END:VEVENT

END:VCALENDAR
