BEGIN:VCALENDAR
VERSION:2.0
PRODID:-//ChamberMaster//Event Calendar 2.0//EN
METHOD:PUBLISH
X-PUBLISHED-TTL:P3D
REFRESH-INTERVAL:P3D
CALSCALE:GREGORIAN
BEGIN:VEVENT
DTSTART:20171116T173000Z
DTEND:20171116T190000Z
X-MICROSOFT-CDO-ALLDAYEVENT:FALSE
SUMMARY:Freedom in Action: Thanksgiving Gathering
DESCRIPTION:We will be having a Thanksgiving meal together\; you are welcome to bring a dish to share if you chose\; main meal will be provided to by FRC.
X-ALT-DESC;FMTTYPE=text/html:We will be having a Thanksgiving meal together\; you are welcome to bring a dish to share if you chose\; main&nbsp\;meal will be provided to by FRC.
LOCATION:Freedom Resource Center 125 W. Lincoln Ave. Conference Room #3 Fergus Falls MN 56537
UID:e.314.42873
SEQUENCE:3
DTSTAMP:20260424T074059Z
URL:https://business.fergusfalls.com/events/details/freedom-in-action-thanksgiving-gathering-42873
END:VEVENT

END:VCALENDAR
