BEGIN:VCALENDAR
VERSION:2.0
PRODID:-//ChamberMaster//Event Calendar 2.0//EN
METHOD:PUBLISH
X-PUBLISHED-TTL:P3D
REFRESH-INTERVAL:P3D
CALSCALE:GREGORIAN
BEGIN:VEVENT
DTSTART:20160701T190000Z
DTEND:20160701T200000Z
X-MICROSOFT-CDO-ALLDAYEVENT:FALSE
SUMMARY:Freedom Winds at Minnesota Veteran's Home
DESCRIPTION:The USAF Band of Mid-America's Freedom Winds will present a series of free concerts in Fergus Falls. The concerts will be at Roosevelt Park at 7:00 pm on June 30\, 2016 and at the Minnesota Veteran's Home at 2:00 pm on July 1\, 2016. Freedom Winds is comprised of six professional musicians whose music inspires patriotism\, connects communities with military service members and honors our country's veterans.\n\n\n\nDuring one of their concerts you are just as likely to hear traditional classic repertoire as you are marches and light pop.  The group performs for military ceremonies\, a variety of community events and provides student clinics.
X-ALT-DESC;FMTTYPE=text/html:<br />\nThe USAF Band of Mid-America&rsquo\;s Freedom Winds will present a series of free concerts in Fergus Falls. The concerts will be at Roosevelt Park at 7:00 pm on June 30\, 2016 and at the Minnesota Veteran&rsquo\;s Home at 2:00 pm on July 1\, 2016. Freedom Winds is comprised of six professional musicians whose music inspires patriotism\, connects communities with military service members and honors our country&rsquo\;s veterans.<br />\n<br />\nDuring one of their concerts you are just as likely to hear traditional classic repertoire as you are marches and light pop. &nbsp\;The group performs for military ceremonies\, a variety of community events and provides student clinics. &nbsp\;<br />\n
LOCATION:Minnesota Veterans Home\, 1821 N. Park St\, Fergus Falls\, MN 56537
UID:e.314.32883
SEQUENCE:3
DTSTAMP:20260425T111838Z
URL:https://business.fergusfalls.com/events/details/freedom-winds-at-minnesota-veteran-s-home-07-01-2016-32883
END:VEVENT

END:VCALENDAR
