BEGIN:VCALENDAR
VERSION:2.0
PRODID:-//ChamberMaster//Event Calendar 2.0//EN
METHOD:PUBLISH
X-PUBLISHED-TTL:P3D
REFRESH-INTERVAL:P3D
CALSCALE:GREGORIAN
BEGIN:VEVENT
DTSTART:20210814T000000Z
DTEND:20210814T040000Z
X-MICROSOFT-CDO-ALLDAYEVENT:FALSE
SUMMARY:Friday Night Races @ I-94 Sure Step Speedway
DESCRIPTION:See the Exciting Racing Action of:\n\n\nWISSOTA Late Models\, WISSOTA Modifieds\, WISSOTA Midwest Modifieds\, WISSOTA Street Stocks\, Limited Late Models\, Short Trackers\n\non 3/8 miles\, high-banked dirt track oval.\n\nPlenty of bleacher seating in the front and back stretch grandstands.\n\nConcessions available. Beer garden & ATM on-site.\n\nTailgate parking available\n\n\n\nRace updates:\n\n103.3 LEIGHTON BROADCASTING
X-ALT-DESC;FMTTYPE=text/html:<h4 style="margin: 0px 0px 5px\; padding: 0px\; border: 0px\; outline: 0px\; font-weight: bold\; font-family: Tahoma\; vertical-align: baseline\; font-size: 12px\; color: rgb(0\, 0\, 0)\;">See the Exciting Racing Action of:</h4>\n\n<div class="mdWrap" style="margin: 0px\; padding: 0px\; border: 0px\; outline: 0px\; font-family: Tahoma\; vertical-align: baseline\; color: rgb(0\, 0\, 0)\; font-size: 12px\;">\n<p style="margin: 0px 0px 1em\; padding: 0px\; border: 0px\; outline: 0px\; font-weight: inherit\; font-style: inherit\; font-family: inherit\; vertical-align: baseline\; line-height: 1.4\;">WISSOTA Late Models\, <span style="color: rgb(0\, 0\, 0)\; font-family: Tahoma\; font-size: 12px\;">WISSOTA&nbsp\;</span>Modifieds\, <span style="color: rgb(0\, 0\, 0)\; font-family: Tahoma\; font-size: 12px\;">WISSOTA&nbsp\;</span>Midwest Modifieds\, <span style="color: rgb(0\, 0\, 0)\; font-family: Tahoma\; font-size: 12px\;">WISSOTA&nbsp\;</span>Street Stocks\, Limited Late Models\, Short Trackers<br />\non 3/8 miles\, high-banked dirt track oval.<br />\nPlenty of bleacher seating in the front and back stretch grandstands.<br />\nConcessions available. Beer garden &amp\; ATM on-site.<br />\nTailgate parking available<br />\n<br />\n<span style="color: rgb(0\, 0\, 0)\; font-family: Tahoma\; font-size: 12px\;">Race updates:</span><br style="color: rgb(0\, 0\, 0)\; font-family: Tahoma\; font-size: 12px\;" />\n<span style="color: rgb(0\, 0\, 0)\; font-family: Tahoma\; font-size: 12px\;">103.3 LEIGHTON BROADCASTING</span></p>\n</div>\n
LOCATION:I-94 Sure Step Speedway LOCATION: North of Fergus Falls MN on Cty. Rd.88 Physical address: 2001 W Fir Ave\, Fergus Falls MN 56537
UID:e.314.62398
SEQUENCE:3
DTSTAMP:20260421T110901Z
URL:https://business.fergusfalls.com/events/details/friday-night-races-i-94-sure-step-speedway-08-13-2021-62398
END:VEVENT

END:VCALENDAR
