BEGIN:VCALENDAR
VERSION:2.0
PRODID:-//ChamberMaster//Event Calendar 2.0//EN
METHOD:PUBLISH
X-PUBLISHED-TTL:P3D
REFRESH-INTERVAL:P3D
CALSCALE:GREGORIAN
BEGIN:VEVENT
DTSTART:20200829T000000Z
DTEND:20200829T040000Z
X-MICROSOFT-CDO-ALLDAYEVENT:FALSE
SUMMARY:Friday Night Races @ I-94 Sure Step Speedway
DESCRIPTION:Regular Race Night\n\n\nWissota Modifieds\, Wissota MWM\,Wissota Super Stocks\, Wissota Street Stocks\, Limited Late Models and Short Trackers.\n\n\nEvent Classes\n\nLimited Late Model\, Short Tracker\, WISSOTA Super Stock\, WISSOTA Street Stock\, WISSOTA Modifieds\, WISSOTA Midwest Mods\n\n\n\nRace updates:\n\n103.3 LIEGHTON BROADCASTING
X-ALT-DESC;FMTTYPE=text/html:<h4 style="margin: 0px 0px 5px\; padding: 0px\; border: 0px\; outline: 0px\; font-weight: bold\; font-family: Tahoma\; vertical-align: baseline\; font-size: 12px\; color: rgb(0\, 0\, 0)\;">Regular Race Night</h4>\n\n<div class="mdWrap" style="margin: 0px\; padding: 0px\; border: 0px\; outline: 0px\; font-family: Tahoma\; vertical-align: baseline\; color: rgb(0\, 0\, 0)\; font-size: 12px\;">\n<p style="margin: 0px 0px 1em\; padding: 0px\; border: 0px\; outline: 0px\; font-weight: inherit\; font-style: inherit\; font-family: inherit\; vertical-align: baseline\; line-height: 1.4\;">Wissota Modifieds\, Wissota MWM\,Wissota Super Stocks\, Wissota Street Stocks\, Limited Late Models and Short Trackers.</p>\n</div>\n\n<div class="schEventClassWrap" style="margin: 0px\; padding: 0px\; border: 0px\; outline: 0px\; font-family: Tahoma\; vertical-align: baseline\; color: rgb(0\, 0\, 0)\; font-size: 12px\;"><strong style="margin: 0px\; padding: 0px\; border: 0px\; outline: 0px\; font-style: inherit\; font-family: inherit\; vertical-align: baseline\;">Event Classes</strong>\n\n<div class="eventInfo" style="margin: 0px\; padding: 0px\; border: 0px\; outline: 0px\; font-weight: inherit\; font-style: inherit\; font-family: inherit\; vertical-align: baseline\;">Limited Late Model\, Short Tracker\, WISSOTA Super Stock\, WISSOTA Street Stock\, WISSOTA Modifieds\, WISSOTA Midwest Mods<br />\n<br />\n<span style="color: rgb(0\, 0\, 0)\; font-family: Tahoma\; font-size: 12px\;">Race updates:</span><br style="color: rgb(0\, 0\, 0)\; font-family: Tahoma\; font-size: 12px\;" />\n<span style="color: rgb(0\, 0\, 0)\; font-family: Tahoma\; font-size: 12px\;">103.3 LIEGHTON BROADCASTING</span></div>\n</div>\n
LOCATION:I-94 Sure Step Speedway LOCATION: North of Fergus Falls MN on Cty. Rd.88 Physical address: 2001 W Fir Ave\, Fergus Falls MN 56537
UID:e.314.57558
SEQUENCE:3
DTSTAMP:20260422T052450Z
URL:https://business.fergusfalls.com/events/details/friday-night-races-i-94-sure-step-speedway-08-28-2020-57558
END:VEVENT

END:VCALENDAR
