BEGIN:VCALENDAR
VERSION:2.0
PRODID:-//ChamberMaster//Event Calendar 2.0//EN
METHOD:PUBLISH
X-PUBLISHED-TTL:P3D
REFRESH-INTERVAL:P3D
CALSCALE:GREGORIAN
BEGIN:VEVENT
DTSTART:20160123T230000Z
DTEND:20160124T020000Z
X-MICROSOFT-CDO-ALLDAYEVENT:FALSE
SUMMARY:Friends of Friends Fighting Hunger in Otter Tail Country Fund Raiser
DESCRIPTION:8th Annual Charity Event\n\n\n\nWhen: Saturday\, January 23rd\, 2016\n\n\n\nSocial & Silent Auctions: 5:00 p.m. - Dinner: 6:30 p.m.\n\n\n\nWhere: Thumper Pond Resort Conference Center\n\nOttertail\, MN\n\n\n\nTickets: $50 per person\n\nIncludes Dinner\, drink ticket\, cash bar\, auction and loads of fun!\n\n...\n\nRSVP at 218-736-5147 or\n\n877-457-2185 (United Way)\n\n\n\nThe evening proceeds will sponsor the Children's Backpack Program and feeding the hungry in Otter Tail County.
X-ALT-DESC;FMTTYPE=text/html:<div class="text_exposed_root text_exposed" id="id_5640f288959c59437780254"><span class="fsl">8th Annual Charity Event<br />\n<br />\nWhen: Saturday\, January 23rd\, 2016<br />\n<br />\nSocial &amp\; Silent Auctions: 5:00 p.m. - Dinner: 6:30 p.m.<br />\n<br />\nWhere: Thumper Pond Resort Conference Center<br />\nOttertail\, MN<br />\n<br />\nTickets: $50 per person<br />\nIncludes Dinner\, drink ticket\, cash bar\, auction and loads of fun!<br />\n<span class="text_exposed_hide">...</span><br />\n<span class="text_exposed_show">RSVP at 218-736-5147 or<br />\n877-457-2185 (United Way)<br />\n<br />\nThe evening proceeds will sponsor the Children&rsquo\;s Backpack Program and feeding the hungry in Otter Tail County.</span></span></div>\n
LOCATION:Thumper Pond Resort in Ottertail MN 300 Thumper Lodge Rd\, Ottertail\, Minnesota 56571
UID:e.314.26458
SEQUENCE:3
DTSTAMP:20260425T215835Z
URL:https://business.fergusfalls.com/events/details/friends-of-friends-fighting-hunger-in-otter-tail-country-fund-raiser-01-23-2016-26458
END:VEVENT

END:VCALENDAR
