BEGIN:VCALENDAR
VERSION:2.0
PRODID:-//ChamberMaster//Event Calendar 2.0//EN
METHOD:PUBLISH
X-PUBLISHED-TTL:P3D
REFRESH-INTERVAL:P3D
CALSCALE:GREGORIAN
BEGIN:VEVENT
DTSTART:20180424T230000Z
DTEND:20180425T030000Z
X-MICROSOFT-CDO-ALLDAYEVENT:FALSE
SUMMARY:Friends of the Prairie Wetlands Learning Center Annual Fundraiser
DESCRIPTION:Annual fundraiser for the Friends of the Prairie Wetlands Learning Center. The evening events include socializing with hors d'doeuvres\, silent and live auctions and raffle. The money raised will help support the green house naturalist position.
X-ALT-DESC;FMTTYPE=text/html:Annual fundraiser for the Friends of the Prairie Wetlands Learning Center. The evening events include socializing with hors d&#39\;doeuvres\, silent and live auctions and raffle. The money raised will help support the green house naturalist position.
LOCATION:Bigwood Event Center
UID:e.314.47737
SEQUENCE:3
DTSTAMP:20260424T000220Z
URL:https://business.fergusfalls.com/events/details/friends-of-the-prairie-wetlands-learning-center-annual-fundraiser-47737
END:VEVENT

END:VCALENDAR
