BEGIN:VCALENDAR
VERSION:2.0
PRODID:-//ChamberMaster//Event Calendar 2.0//EN
METHOD:PUBLISH
X-PUBLISHED-TTL:P3D
REFRESH-INTERVAL:P3D
CALSCALE:GREGORIAN
BEGIN:VEVENT
DTSTART:20171123T000000Z
DTEND:20171123T055500Z
X-MICROSOFT-CDO-ALLDAYEVENT:FALSE
SUMMARY:Friendsgiving at Socials Bar & Grill
DESCRIPTION:
X-ALT-DESC;FMTTYPE=text/html:
LOCATION:Socials Bar & Grill 1815 W Lincoln Ave Fergus Falls
UID:e.314.43094
SEQUENCE:3
DTSTAMP:20260424T074526Z
URL:https://business.fergusfalls.com/events/details/friendsgiving-at-socials-bar-grill-43094
END:VEVENT

END:VCALENDAR
