BEGIN:VCALENDAR
VERSION:2.0
PRODID:-//ChamberMaster//Event Calendar 2.0//EN
METHOD:PUBLISH
X-PUBLISHED-TTL:P3D
REFRESH-INTERVAL:P3D
CALSCALE:GREGORIAN
BEGIN:VEVENT
DTSTART:20181216T013000Z
DTEND:20181216T033000Z
X-MICROSOFT-CDO-ALLDAYEVENT:FALSE
SUMMARY:Front & Center Fundraiser
DESCRIPTION:Front & Center \n\nwith special guests\, The Fergus Funtastics!
X-ALT-DESC;FMTTYPE=text/html:<span style="font-size:18px\;"><span style="font-family:tahoma\;"><span style="color:#008000\;"><strong><span style="font-size:22px\;">Front &amp\; Center&nbsp\;</span></strong></span><br />\nwith special guests\, The Fergus Funtastics!&nbsp\;</span></span><br />\n&nbsp\;
LOCATION:A Center for the Arts
UID:e.314.51969
SEQUENCE:3
DTSTAMP:20260423T121931Z
URL:https://business.fergusfalls.com/events/details/front-center-fundraiser-51969
END:VEVENT

END:VCALENDAR
