BEGIN:VCALENDAR
VERSION:2.0
PRODID:-//ChamberMaster//Event Calendar 2.0//EN
METHOD:PUBLISH
X-PUBLISHED-TTL:P3D
REFRESH-INTERVAL:P3D
CALSCALE:GREGORIAN
BEGIN:VEVENT
DTSTART:20180415T200000Z
DTEND:20180415T220000Z
X-MICROSOFT-CDO-ALLDAYEVENT:FALSE
SUMMARY:Front & Center Singers Concert
DESCRIPTION:Spend "Tax Day" toe-tapping and du-wopping with the Front & Center Singers. A program full of vocal jazz favorites! Special appearances by the AC4TA Children's choirs and PB&J Singers.\n\n\n\nThis is a fundraising event! There will be silent and live auction "Experience Baskets" to bid on - "not your ordinary silent auction item!" Funds will go toward the relocation of our box office.\n\n\n\nTickets: $16 adults / $8 students
X-ALT-DESC;FMTTYPE=text/html:<span class="_4n-j _3cht fsl" data-testid="event-permalink-details">Spend &quot\;Tax Day&quot\; toe-tapping and du-wopping with the Front &amp\; Center Singers. A program full of vocal jazz favorites! Special appearances by the AC4TA Children&#39\;s choirs and PB&amp\;J Singers.<br />\n<br />\nThis is a fundraising event! There will be silent and live auction &quot\;Experience Baskets&quot\; to bid on - &quot\;not your ordinary silent auction item!&quot\; Funds will go toward the relocation of our box office.<br />\n<br />\nTickets: $16 adults / $8 students</span>
LOCATION:AC4TA 124 W Lincoln Ave Fergus Falls
UID:e.314.44968
SEQUENCE:3
DTSTAMP:20260423T235212Z
URL:https://business.fergusfalls.com/events/details/front-center-singers-concert-44968
END:VEVENT

END:VCALENDAR
