BEGIN:VCALENDAR
VERSION:2.0
PRODID:-//ChamberMaster//Event Calendar 2.0//EN
METHOD:PUBLISH
X-PUBLISHED-TTL:P3D
REFRESH-INTERVAL:P3D
CALSCALE:GREGORIAN
BEGIN:VEVENT
DTSTART:20171117T233000Z
DTEND:20171118T023000Z
X-MICROSOFT-CDO-ALLDAYEVENT:FALSE
SUMMARY:Front House Training with Toby Lein\, 22 years with the Ordway!
DESCRIPTION:This investment in the training workshop demonstrates A Center for the Arts' commitment to customer service and providing our patrons with the best experience possible. This interactive training workshop will focus on the rewards and challenges that providing customer service can present. \n\nThis will help us focus on our customer\, teach techniques on how to address and maintain control of challenging situations in positive manners\, ways to come to mutually successful resolutions\, and how you as a customer service provider play a large role in creating the overall experience. This training workshop will also provide tools for exemplary customer service practices in general that can easily become a day-to-day way of life.
X-ALT-DESC;FMTTYPE=text/html:<span style="color: rgb(75\, 79\, 86)\; text-transform: none\; text-indent: 0px\; letter-spacing: normal\; font-family: Helvetica\, Arial\, sans-serif\; font-size: 14px\; font-style: normal\; font-weight: 400\; word-spacing: 0px\; float: none\; display: inline !important\; white-space: normal\; orphans: 2\; widows: 2\; background-color: rgb(255\, 255\, 255)\; font-variant-ligatures: normal\; font-variant-caps: normal\; -webkit-text-stroke-width: 0px\; text-decoration-style: initial\; text-decoration-color: initial\;">This investment in the training workshop demonstrates A Center for the Arts&#39\; commitment to customer service and providing our patrons with the best experience possible. This interactive training workshop will focus on the rewards and challenges that providing customer service can present.<span>&nbsp\;</span></span><br style="color: rgb(75\, 79\, 86)\; text-transform: none\; text-indent: 0px\; letter-spacing: normal\; font-family: Helvetica\, Arial\, sans-serif\; font-size: 14px\; font-style: normal\; font-weight: 400\; word-spacing: 0px\; white-space: normal\; orphans: 2\; widows: 2\; background-color: rgb(255\, 255\, 255)\; font-variant-ligatures: normal\; font-variant-caps: normal\; -webkit-text-stroke-width: 0px\; text-decoration-style: initial\; text-decoration-color: initial\;" />\n<span style="color: rgb(75\, 79\, 86)\; text-transform: none\; text-indent: 0px\; letter-spacing: normal\; font-family: Helvetica\, Arial\, sans-serif\; font-size: 14px\; font-style: normal\; font-weight: 400\; word-spacing: 0px\; float: none\; display: inline !important\; white-space: normal\; orphans: 2\; widows: 2\; background-color: rgb(255\, 255\, 255)\; font-variant-ligatures: normal\; font-variant-caps: normal\; -webkit-text-stroke-width: 0px\; text-decoration-style: initial\; text-decoration-color: initial\;">This will help us focus on our customer\, teach techniques on how to address and maintain control of challenging situations in positive manners\, ways to come to mutually successful resolutions\, and how you as a customer service provider play a large role in creating the overall experience. This training workshop will also provide tools for exemplary customer service practices in general that can easily become a day-to-day way of life.</span>
LOCATION:A Center for the Arts Lincoln Ave Fergus Falls
UID:e.314.43086
SEQUENCE:3
DTSTAMP:20260424T092825Z
URL:https://business.fergusfalls.com/events/details/front-house-training-with-toby-lein-22-years-with-the-ordway-43086
END:VEVENT

END:VCALENDAR
