BEGIN:VCALENDAR
VERSION:2.0
PRODID:-//ChamberMaster//Event Calendar 2.0//EN
METHOD:PUBLISH
X-PUBLISHED-TTL:P3D
REFRESH-INTERVAL:P3D
CALSCALE:GREGORIAN
BEGIN:VEVENT
DTSTART:20170204T200000Z
DTEND:20170204T203000Z
X-MICROSOFT-CDO-ALLDAYEVENT:FALSE
SUMMARY:FrostBike Ride 2017
DESCRIPTION:Join us for a short\, family-friendly bike ride through downtown Fergus Falls as part of Frostbite Festival. Length of ride will depend on the weather conditions.
X-ALT-DESC;FMTTYPE=text/html:Join us for a short\, family-friendly bike ride through downtown Fergus Falls as part of Frostbite Festival. Length of ride will depend on the weather conditions.
LOCATION:City Hall
UID:e.314.38274
SEQUENCE:3
DTSTAMP:20260424T225132Z
URL:https://business.fergusfalls.com/events/details/frostbike-ride-2017-02-04-2017-38274
END:VEVENT

END:VCALENDAR
