BEGIN:VCALENDAR
VERSION:2.0
PRODID:-//ChamberMaster//Event Calendar 2.0//EN
METHOD:PUBLISH
X-PUBLISHED-TTL:P3D
REFRESH-INTERVAL:P3D
CALSCALE:GREGORIAN
BEGIN:VEVENT
DTSTART;VALUE=DATE:20160205
DTEND;VALUE=DATE:20160208
TRANSP:TRANSPARENT
X-MICROSOFT-CDO-ALLDAYEVENT:TRUE
SUMMARY:Frostbite Festival in Fergus Falls 2016
DESCRIPTION:Enjoy these great activities for the whole family during Frostbite Festival February 5-7\, 2016 in Fergus Falls. Ice Skating\, Bingo\, Kids Activities and more!\n\nCLICK HERE FOR PRINTABLE SCHEDULE \n\nThursday\, February 4\n\nWCCO TV Live Broadcast "Goin' to the Frozen Lake" Lake Alice\, 5 & 6pm\n\nWCCO TV Live Broadcast   Mabel Murphy's Restaurant & Irish Pub 7pm\n\nWCCO TV Live Broadcast "Goin' to the Frozen Lake" Z103 Bar & Grill\, 10pm\n\nFriday\, February 5\n\nWCCO Radio Live Broadcast "Goin' to the Frozen Lake" Mabel Murphy's\, 12-3pm\n\nIF Gathering: Fergus Falls\, Bigwood Event Center\, 1:30pm\n\nOutdoor Skating\, Cleveland Rink & Lake Alice\, 3:30-8pm\n\n"Go Team!" Pep Rally/Exhibit Opening\, Otter Tail Co. Historical Society Museum\, 4-7pm\n\nHillcrest Girls Basketball vs. Norman Co. E/Ulen-Hitterdahl\, Hillcrest New Gym\, 5pm\n\nWCCO TV Live Broadcast "Goin' to the Frozen Lake" American Legion\, 5 & 6pm\n\nVFW Post #612 Friday Night Fun: Meat Raffle 4pm\; Bingo 5:30pm\; Walleye Dinner\, 5-7pm \n\nCorporate Cup Various locations. 5:30-8:30pm\n\n"Snowflake Factory" Family Fun Event\, Trinity Lutheran School Gym 5:30-7:30pm. \n\nOtter Girls Basketball vs. Willmar\, Kennedy Gold Gym\, 6pm\n\nBar Bingo\, Sandwiches\, Dart Tournament\, Eagles\, 6pm\n\nBingo\, 5 Star Bingo at American Legion\, 6:30pm\n\nOne-Act Play "Death of the a Dead Man" Kennedy Auditorium\, 7pm\n\nOtter Boys Basketball vs. Willmar\, Kennedy Gold Gym\, 7:30pm\n\nOpen Swimming\, Kennedy Secondary School. 7-9 pm\n\nFFHS Snoball Dance\, Kennedy Maroon Gym\, 9pm-12am\n\nKaraoke & DJ\, Mabel Muphy's\, 9pm-1am\n\n32 Below Concert\, Z103 Bar & Grill\,  9pm-1am\n\n \n\nSaturday\, February 6\n\nIF Gathering: Fergus Falls\, Bigwood Event Center\, 8:45am\n\nLeighton Broadcasting BUILD-CON 2016\, Westridge Mall\, 9am-4pm -- chance to win $2K "Build Con Bucks"\n\nIndoor Farmers Market\, WestRidge Mall\, 10am-2pm\n\nFamily Art Table\, FF Public Library\, 10am-12pm\n\nDart Tournament\, Eagles Aerie #2339\, 10am\n\nBroomball Tournament\, Cleveland Rink\, 10am\n\nOutdoor Skating\, Cleveland Rink & Lake Alice\, 12-8pm\n\nBar Bingo & Meat Raffle\, VFW Post #612\, 2pm\n\nChamber's Battle of the Business Bowling\, Northern Aire Lanes\, 2:30-8:30pm \n\nBingo\, 5 Star Bingo at American Legion\, 6:30pm\n\nKaraoke & DJ\, Mabel Muphy's\, 9pm-1am\n\n \n\nSunday\, February 7\n\nKiwanis Pancake Breakfast\, YMCA\, 8am-12:30pm\n\nOutdoor Skating\, Cleveland Rink & Lake Alice\, 12-8pm\n\n"Big Game" Party\, Z103 Bar & Grill\, 12pm \n\nTexas Hold'em tournament\, Z103 Bar & Grill\, 12pm For details: 218-998-7625\n\nPOSTPONED UNTIL FEB. 13: 37th Annual Sertoma Ice Fishing Derby & Raffle\, Pebble Lake\, 1-3pm\n\n"Big Game" Party\, VFW\, 1pm\n\nIndoor Skating\, Community Arena\, 6pm-7:30pm
X-ALT-DESC;FMTTYPE=text/html:<p align="center"><span style="font-size: 11px\;"><span style="font-family: verdana\;"><strong>Enjoy these&nbsp\;great activities for the whole family&nbsp\;during Frostbite Festival February 5-7\, 2016 in Fergus Falls. <span style="color: rgb(0\, 0\, 255)\;">Ice Skating\, Bingo</span></strong></span></span><span style="color: rgb(0\, 0\, 255)\;"><span style="font-size: 11px\;"><span style="font-family: verdana\;"><strong>\,&nbsp\;Kids&nbsp\;Activities&nbsp\;and more!</strong></span></span></span><br />\n<span style="font-size: 14px\;"><strong><a href="https://chambermaster.blob.core.windows.net/userfiles/UserFiles/chambers/314/File/FrostbiteFestival2016EventsFlyer1.pdf"><span style="color: rgb(0\, 0\, 0)\;"><span style="background-color: rgb(0\, 255\, 255)\;">CLICK HERE FOR PRINTABLE SCHEDULE</span></span></a><span style="color: rgb(0\, 0\, 0)\;"><span style="background-color: rgb(0\, 255\, 255)\;"> </span></span></strong></span></p>\n\n<p><strong><u><font face="Franklin Gothic Book">Thursday\, February 4</font></u></strong><br />\n<span style="font-weight: bold\; language: en-US\;"><span style="font-family: franklin gothic book\;">WCCO TV Live Broadcast </span></span><span style="language: en-US\;"><span style="font-family: franklin gothic book\;">&ldquo\;Goin&rsquo\; to the Frozen Lake&rdquo\; Lake Alice\, 5 &amp\; 6pm</span></span><br />\n<span style="font-weight: bold\; language: en-US\;"><span style="font-family: franklin gothic book\;">WCCO TV Live Broadcast&nbsp\;&nbsp\;</span></span> Mabel Murphy&#39\;s Restaurant &amp\; Irish Pub 7pm<br />\n<span style="font-weight: bold\; language: en-US\;"><span style="font-family: franklin gothic book\;">WCCO TV Live Broadcast </span></span><span style="language: en-US\;"><span style="font-family: franklin gothic book\;">&ldquo\;Goin&rsquo\; to the Frozen Lake&rdquo\; Z103 Bar &amp\; Grill\, 10pm</span></span><br />\n<span style="font-weight: bold\; text-decoration: underline\; language: en-US\; text-underline: single\;"><span style="font-family: franklin gothic book\;"><span style="font-size: 11pt\;">Friday\, February 5</span></span></span><br />\n<span style="font-weight: bold\; language: en-US\;"><span style="font-family: franklin gothic book\;">WCCO Radio Live Broadcast </span></span><span style="language: en-US\;"><span style="font-family: franklin gothic book\;">&ldquo\;Goin&rsquo\; to the Frozen Lake&rdquo\; Mabel Murphy&#39\;s\, 12-3pm</span></span><br />\n<span style="font-weight: bold\; language: en-US\;"><span style="font-family: franklin gothic book\;">IF Gathering: Fergus Falls\, </span></span><span style="language: en-US\;"><span style="font-family: franklin gothic book\;">Bigwood Event Center\, 1:30pm</span></span><br />\n<span style="font-weight: bold\; language: en-US\;"><span style="font-family: franklin gothic book\;">Outdoor Skating</span></span><span style="language: en-US\;"><span style="font-family: franklin gothic book\;">\, Cleveland Rink &amp\; Lake Alice\, 3:30-8pm</span></span><br />\n<span style="font-weight: bold\; language: en-US\;"><span style="font-family: franklin gothic book\;">&ldquo\;Go Team!&rdquo\; Pep Rally/Exhibit Opening\, </span></span><span style="language: en-US\;"><span style="font-family: franklin gothic book\;">Otter Tail Co. Historical Society Museum\, 4-7pm</span></span><br />\n<span style="font-weight: bold\; language: en-US\;"><span style="font-family: franklin gothic book\;">Hillcrest Girls Basketball </span></span><span style="language: en-US\;"><span style="font-family: franklin gothic book\;">vs. Norman Co. E/Ulen-Hitterdahl\, Hillcrest New Gym\, 5pm</span></span><br />\n<span style="font-weight: bold\; language: en-US\;"><span style="font-family: franklin gothic book\;">WCCO TV Live Broadcast </span></span><span style="language: en-US\;"><span style="font-family: franklin gothic book\;">&ldquo\;Goin&rsquo\; to the Frozen Lake&rdquo\; American Legion\, 5 &amp\; 6pm</span></span><br />\n<span style="font-weight: bold\; language: en-US\;"><span style="font-family: franklin gothic book\;">VFW Post #612 Friday Night Fun: </span></span><span style="language: en-US\;"><span style="font-family: franklin gothic book\;">Meat Raffle 4pm\; Bingo 5:30pm\; Walleye&nbsp\;Dinner\, 5-7pm </span></span><br />\n<span style="font-weight: bold\; language: en-US\;"><span style="font-family: franklin gothic book\;">Corporate Cup</span></span><span style="language: en-US\;"><span style="font-family: franklin gothic book\;"> Various locations. 5:30-8:30pm</span></span><br />\n<span style="font-weight: bold\; language: en-US\;"><span style="font-family: franklin gothic book\;">&quot\;Snowflake Factory</span></span><span style="language: en-US\;"><span style="font-family: franklin gothic book\;">&quot\; Family Fun Event\, Trinity Lutheran School Gym 5:30-7:30pm. </span></span><br />\n<span style="font-weight: bold\; language: en-US\;"><span style="font-family: franklin gothic book\;">Otter Girls Basketball </span></span><span style="language: en-US\;"><span style="font-family: franklin gothic book\;">vs. Willmar\, Kennedy Gold Gym\, 6pm</span></span><br />\n<span style="font-weight: bold\; language: en-US\;"><span style="font-family: franklin gothic book\;">Bar Bingo\, Sandwiches\, Dart Tournament</span></span><span style="language: en-US\;"><span style="font-family: franklin gothic book\;">\, Eagles\, 6pm</span></span><br />\n<span style="font-weight: bold\; language: en-US\;"><span style="font-family: franklin gothic book\;">Bingo</span></span><span style="language: en-US\;"><span style="font-family: franklin gothic book\;">\, 5 Star Bingo at American Legion\, 6:30pm</span></span><br />\n<span style="font-weight: bold\; language: en-US\;"><span style="font-family: franklin gothic book\;">One-Act Play &ldquo\;Death of the a Dead Man&rdquo\; </span></span><span style="language: en-US\;"><span style="font-family: franklin gothic book\;">Kennedy Auditorium\, 7pm</span></span><br />\n<span style="font-weight: bold\; language: en-US\;"><span style="font-family: franklin gothic book\;">Otter Boys Basketball </span></span><span style="language: en-US\;"><span style="font-family: franklin gothic book\;">vs. Willmar\, Kennedy Gold Gym\, 7:30pm</span></span><br />\n<span style="font-weight: bold\; language: en-US\;"><span style="font-family: franklin gothic book\;">Open Swimming</span></span><span style="language: en-US\;"><span style="font-family: franklin gothic book\;">\, Kennedy Secondary School. 7-9 pm</span></span><br />\n<span style="font-weight: bold\; language: en-US\;"><span style="font-family: franklin gothic book\;">FFHS Snoball Dance\, </span></span><span style="language: en-US\;"><span style="font-family: franklin gothic book\;">Kennedy Maroon Gym\, 9pm-12am</span></span><br />\n<span style="font-weight: bold\; language: en-US\;"><span style="font-family: franklin gothic book\;">Karaoke &amp\; DJ\, </span></span><span style="language: en-US\;"><span style="font-family: franklin gothic book\;">Mabel Muphy&rsquo\;s\, 9pm-1am</span></span><br />\n<span style="font-size: 11px\;"><span style="font-family: verdana\;"><strong>32 Below Concert</strong>\, Z103 Bar &amp\; Grill\, &nbsp\;9pm-1am</span></span><br />\n&nbsp\;<br />\n<span style="font-weight: bold\; text-decoration: underline\; language: en-US\; text-underline: single\;"><span style="font-family: franklin gothic book\;"><span style="font-size: 11pt\;">Saturday\, February 6</span></span></span><br />\n<span style="font-weight: bold\; language: en-US\;"><span style="font-family: franklin gothic book\;">IF Gathering: Fergus Falls\, </span></span><span style="language: en-US\;"><span style="font-family: franklin gothic book\;">Bigwood Event Center\, 8:45am</span></span><br />\n<span style="font-weight: bold\; language: en-US\;"><span style="font-family: franklin gothic book\;">Leighton Broadcasting BUILD-CON 2016</span></span><span style="language: en-US\;"><span style="font-family: franklin gothic book\;">\, Westridge Mall\, 9am-4pm -- chance to win $2K &quot\;Build Con Bucks&quot\;</span></span><br />\n<span style="font-weight: bold\; language: en-US\;"><span style="font-family: franklin gothic book\;">Indoor Farmers Market\, </span></span><span style="language: en-US\;"><span style="font-family: franklin gothic book\;">WestRidge Mall\, 10am-2pm</span></span><br />\n<span style="font-weight: bold\; language: en-US\;"><span style="font-family: franklin gothic book\;">Family Art Table\, </span></span><span style="language: en-US\;"><span style="font-family: franklin gothic book\;">FF Public Library\, 10am-12pm</span></span><br />\n<span style="font-weight: bold\; language: en-US\;"><span style="font-family: franklin gothic book\;">Dart Tournament</span></span><span style="language: en-US\;"><span style="font-family: franklin gothic book\;">\, Eagles Aerie #2339\, 10am</span></span><br />\n<span style="font-weight: bold\; language: en-US\;"><span style="font-family: franklin gothic book\;">Broomball&nbsp\;Tournament</span></span><span style="language: en-US\;"><span style="font-family: franklin gothic book\;">\, Cleveland Rink\, 10am</span></span><br />\n<span style="font-weight: bold\; language: en-US\;"><span style="font-family: franklin gothic book\;">Outdoor Skating</span></span><span style="language: en-US\;"><span style="font-family: franklin gothic book\;">\, Cleveland Rink &amp\; Lake Alice\, 12-8pm</span></span><br />\n<span style="font-weight: bold\; language: en-US\;"><span style="font-family: franklin gothic book\;">Bar Bingo &amp\; Meat Raffle</span></span><span style="language: en-US\;"><span style="font-family: franklin gothic book\;">\, VFW Post #612\, 2pm</span></span><br />\n<span style="font-weight: bold\; language: en-US\;"><span style="font-family: franklin gothic book\;">Chamber&rsquo\;s Battle of the Business Bowling</span></span><span style="language: en-US\;"><span style="font-family: franklin gothic book\;">\, Northern Aire Lanes\, 2:30-8:30pm </span></span><br />\n<span style="font-weight: bold\; language: en-US\;"><span style="font-family: franklin gothic book\;">Bingo</span></span><span style="language: en-US\;"><span style="font-family: franklin gothic book\;">\, 5 Star Bingo at American Legion\, 6:30pm</span></span><br />\n<span style="font-weight: bold\; language: en-US\;"><span style="font-family: franklin gothic book\;">Karaoke &amp\; DJ\, </span></span><span style="language: en-US\;"><span style="font-family: franklin gothic book\;">Mabel Muphy&rsquo\;s\, 9pm-1am</span></span><br />\n&nbsp\;<br />\n<span style="font-weight: bold\; text-decoration: underline\; language: en-US\; text-underline: single\;"><span style="font-family: franklin gothic book\;"><span style="font-size: 11pt\;">Sunday\, February 7</span></span></span><br />\n<span style="font-weight: bold\; language: en-US\;"><span style="font-family: franklin gothic book\;">Kiwanis Pancake Breakfast</span></span><span style="language: en-US\;"><span style="font-family: franklin gothic book\;">\, YMCA\, 8am-12:30pm</span></span><br />\n<span style="font-weight: bold\; language: en-US\;"><span style="font-family: franklin gothic book\;">Outdoor Skating</span></span><span style="language: en-US\;"><span style="font-family: franklin gothic book\;">\, Cleveland Rink &amp\; Lake Alice\, 12-8pm</span></span><br />\n<span style="font-weight: bold\; language: en-US\;"><span style="font-family: franklin gothic book\;">&ldquo\;Big Game&rdquo\; Party</span></span><span style="language: en-US\;"><span style="font-family: franklin gothic book\;">\, Z103 Bar &amp\; Grill\, 12pm&nbsp\;</span></span><br />\n<span style="font-weight: bold\; language: en-US\;"><span style="font-family: franklin gothic book\;">Texas Hold&#39\;em tournament</span></span><span style="language: en-US\;"><span style="font-family: franklin gothic book\;">\, Z103 Bar &amp\; Grill\, 12pm&nbsp\;For details:&nbsp\;</span></span><span style="font-family: 'franklin gothic book'\; line-height: 18.9091px\;">218-998-7625</span><br />\n<span style="font-weight: bold\; language: en-US\;"><span style="font-family: franklin gothic book\;"><span style="background-color:#FFFF00\;">POSTPONED UNTIL FEB. 13: 37</span></span></span><span style="font-weight: bold\; language: en-US\;"><span style="font-family: franklin gothic book\;"><sup><span style="background-color:#FFFF00\;">th</span></sup></span></span><span style="font-weight: bold\; language: en-US\;"><span style="font-family: franklin gothic book\;"><span style="background-color:#FFFF00\;"> Annual </span><span style="background-color:#FFFF00\;">Sertoma</span><span style="background-color:#FFFF00\;"> Ice Fishing Derby &amp\; Raffle</span></span></span><span style="language: en-US\;"><span style="font-family: franklin gothic book\;"><span style="background-color:#FFFF00\;">\, Pebble Lake\, </span><span style="background-color:#FFFF00\;">1-3pm</span></span></span><br />\n<span style="font-weight: bold\; language: en-US\;"><span style="font-family: franklin gothic book\;">&ldquo\;Big Game&rdquo\; Party</span></span><span style="language: en-US\;"><span style="font-family: franklin gothic book\;">\, VFW\, 1pm</span></span><br />\n<span style="font-weight: bold\; language: en-US\;"><span style="font-family: franklin gothic book\;">Indoor Skating</span></span><span style="language: en-US\;"><span style="font-family: franklin gothic book\;">\, Community Arena\, 6pm-7:30pm</span></span></p>\n\n<p align="center"><span style="font-size: 11px\;"><span style="font-family: verdana\;">&nbsp\;</span></span></p>\n
LOCATION:Throughout Fergus Falls
UID:e.314.21086
SEQUENCE:3
DTSTAMP:20260425T201125Z
URL:https://business.fergusfalls.com/events/details/frostbite-festival-in-fergus-falls-2016-02-05-2016-21086
END:VEVENT

END:VCALENDAR
