BEGIN:VCALENDAR
VERSION:2.0
PRODID:-//ChamberMaster//Event Calendar 2.0//EN
METHOD:PUBLISH
X-PUBLISHED-TTL:P3D
REFRESH-INTERVAL:P3D
CALSCALE:GREGORIAN
BEGIN:VEVENT
DTSTART;VALUE=DATE:20170203
DTEND;VALUE=DATE:20170206
TRANSP:TRANSPARENT
X-MICROSOFT-CDO-ALLDAYEVENT:TRUE
SUMMARY:Frostbite Festival in Fergus Falls 2017
DESCRIPTION:Enjoy great activities for the whole family during Frostbite Festival February 3-5\, 2017 in Fergus Falls\n\nClick Here for a Frostbite Festival PDF Flyer to Download & Print  \n\nFriday\, February 3\n\nIF Gathering: Fergus Falls\, Life Church\, 1:30pm\n\nOutdoor Skating\, Lake Alice & Cleveland Rink\, 3:30-8pm\n\nVFW Friday Night Fun: Meat Raffle 4pm\; Bingo 5:30pm\; Walleye 5-7pm \n\nSnowflake Factory Family Fun\, Trinity Lutheran School Gym\, 5:30-7:30pm \n\nFFHS Wrestling Quad\, Kennedy Maroon Gym\n\nFFHS Girls Hockey vs. TRF\, Community Arena\, JV 5:30pm\, Varsity 7:15pm\n\nEagles Friday Night Fun: Bar Bingo & Sandwiches 6pm\, Dart Tournament 7pm\n\nBingo\, American Legion\, 6:30pm\n\nOpen Swimming\, Kennedy Pool\, 7-9 pm\n\nLive Music: Cathy Erickson\, VFW\, 7:30-11pm\n\nLive Music: Tynan Acoustic\, Union Pizza & Brewing Co.\, 8-10pm\n\nKaraoke & DJ\, Mabel Murphy's\, 9pm-1am\n\nLive Music: Boomtown\, Z103 Bar & Grill\, 9pm-1am\n\n \n\nSaturday\, February 4\n\nIF Gathering: Fergus Falls\, Life Church\, 8:45am\n\nLeighton Broadcasting BUILD-CON 2017\, Westridge Mall\, 9am-3pm\n\nSquirt A Hockey Tournament\, Community Arena\, 9am-7pm\n\nBackcourt Club Youth Basketball Tournament\, Kennedy School Gyms\n\nBroomball Tournament\, Cleveland Rink\, 10am\n\nDart Tournament\, Eagles\, 11am\n\nRefreshments at Ice Rinks from Downtown Riverfront Council\n\nKaddatz Family Art Table\, Fergus Falls Library\, 10am-12pm\n\n"Frozen" Scavenger Hunt\, Otter Tail Co. Historical Society\, 10am-2pm\n\nWinter Market (Indoor Farmers Market) WestRidge Mall\, 10am-2pm\n\nKids Events at Winter Market\, WestRidge Mall\, 10am-2pm\n\nIce Bowling\, DeLagoon Park\, 11am-5pm\n\nPedal Fergus Falls "FrostBIKE Ride" family bike ride\, City Hall\, 2pm\n\nOutdoor Skating\, Cleveland Rink & Lake Alice\, 12-8pm\n\nBar Bingo & Meat Raffle\, VFW Post #612\, 2pm\n\nChamber's Battle of the Business Bowling\, Northern Aire Lanes\, 2:30-8:30pm \n\nBingo\, American Legion\, 6:30pm\n\nFFHS Snoball Dance\, Kennedy Maroon Gym\, 9pm-12am\n\nKaraoke & DJ\, Mabel Murphy's\, 9pm-1am\n\n \n\nSunday\, February 5\n\nKiwanis Pancake Breakfast\, YMCA\, 8am-12:30pm\n\nSquirt A Hockey Tournament\, Community Arena\, 9am-7pm\n\nOutdoor Skating\, Cleveland Rink & Lake Alice\, 12-8pm\n\n38th Annual Sertoma Ice Fishing Derby & Raffle\, Pebble Lake\, 1-3pm\n\nTexas Hold'em Tournament\, Z103 Bar & Grill\, 2pm\n\n"Big Game" Parties: VFW\, Z103 Bar & Grill\, Socials\n\nHillcrest Youth Super Bowl Party\, 1-10:30pm\n\nIndoor Skating\, Community Arena\, 6-7:30pm
X-ALT-DESC;FMTTYPE=text/html:<span style="font-size: 16px\;"><span style="font-family: verdana\;"><strong>Enjoy great activities for the whole family&nbsp\;during Frostbite Festival February 3-5\, 2017 in Fergus Falls</strong></span></span><br />\n<span style="font-family: verdana\;"><strong><span style="background-color: rgb(0\, 255\, 255)\;"><a href="https://chambermaster.blob.core.windows.net/userfiles/UserFiles/chambers/314/File/FrostbiteFestival2017EventsFlyer1.pdf">Click Here for a Frostbite Festival PDF Flyer to Download &amp\; Print </a> </span></strong></span><br />\n<span style="font-weight: bold\; text-decoration: underline\; text-underline: single\; language: en-US\;"><span style="font-family: franklin gothic book\;"><span style="font-size: 12pt\;">Friday\, February 3</span></span></span><br />\n<span style="font-weight: bold\; language: en-US\;"><span style="font-family: franklin gothic book\;">IF Gathering: Fergus Falls\, </span></span><span style="language: en-US\;"><span style="font-family: franklin gothic book\;">Life Church\, 1:30pm</span></span><br />\n<span style="font-weight: bold\; language: en-US\;"><span style="font-family: franklin gothic book\;">Outdoor Skating\,</span></span><span style="language: en-US\;"><span style="font-family: franklin gothic book\;"> Lake Alice &amp\; Cleveland Rink\, 3:30-8pm</span></span><br />\n<span style="font-weight: bold\; language: en-US\;"><span style="font-family: franklin gothic book\;">VFW Friday Night Fun: </span></span><span style="language: en-US\;"><span style="font-family: franklin gothic book\;">Meat Raffle 4pm\; Bingo 5:30pm\; Walleye 5-7pm </span></span><br />\n<span style="font-weight: bold\; language: en-US\;"><span style="font-family: franklin gothic book\;">Snowflake Factory Family Fun\, </span></span><span style="language: en-US\;"><span style="font-family: franklin gothic book\;">Trinity Lutheran School Gym\, 5:30-7:30pm </span></span><br />\n<span style="font-weight: bold\; language: en-US\;"><span style="font-family: franklin gothic book\;">FFHS Wrestling Quad\, </span></span><span style="language: en-US\;"><span style="font-family: franklin gothic book\;">Kennedy Maroon Gym</span></span><br />\n<span style="font-weight: bold\; language: en-US\;"><span style="font-family: franklin gothic book\;">FFHS Girls Hockey </span></span><span style="language: en-US\;"><span style="font-family: franklin gothic book\;">vs. TRF\, Community Arena\, JV 5:30pm\, Varsity 7:15pm</span></span><br />\n<span style="font-weight: bold\; language: en-US\;"><span style="font-family: franklin gothic book\;">Eagles Friday Night Fun: </span></span><span style="language: en-US\;"><span style="font-family: franklin gothic book\;">Bar Bingo &amp\; Sandwiches 6pm\, Dart Tournament 7pm</span></span><br />\n<span style="font-weight: bold\; language: en-US\;"><span style="font-family: franklin gothic book\;">Bingo</span></span><span style="language: en-US\;"><span style="font-family: franklin gothic book\;">\, American Legion\, 6:30pm</span></span><br />\n<span style="font-weight: bold\; language: en-US\;"><span style="font-family: franklin gothic book\;">Open Swimming</span></span><span style="language: en-US\;"><span style="font-family: franklin gothic book\;">\, Kennedy Pool\, 7-9 pm</span></span><br />\n<span style="font-weight: bold\; language: en-US\;"><span style="font-family: franklin gothic book\;">Live Music: Cathy Erickson\, </span></span><span style="language: en-US\;"><span style="font-family: franklin gothic book\;">VFW\, 7:30-11pm</span></span><br />\n<span style="font-weight: bold\; language: en-US\;"><span style="font-family: franklin gothic book\;">Live Music: Tynan Acoustic\, </span></span><span style="language: en-US\;"><span style="font-family: franklin gothic book\;">Union Pizza &amp\; Brewing Co.\, 8-10pm</span></span><br />\n<span style="font-weight: bold\; language: en-US\;"><span style="font-family: franklin gothic book\;">Karaoke &amp\; DJ\, </span></span><span style="language: en-US\;"><span style="font-family: franklin gothic book\;">Mabel Murphy&#39\;s\, 9pm-1am</span></span><br />\n<span style="font-weight: bold\; language: en-US\;"><span style="font-family: franklin gothic book\;">Live Music: Boomtown\, </span></span><span style="language: en-US\;"><span style="font-family: franklin gothic book\;">Z103 Bar &amp\; Grill\, 9pm-1am</span></span><br />\n&nbsp\;<br />\n<span style="font-weight: bold\; text-decoration: underline\; text-underline: single\; language: en-US\;"><span style="font-family: franklin gothic book\;"><span style="font-size: 12pt\;">Saturday\, February 4</span></span></span><br />\n<span style="font-weight: bold\; language: en-US\;"><span style="font-family: franklin gothic book\;">IF Gathering: Fergus Falls\, </span></span><span style="language: en-US\;"><span style="font-family: franklin gothic book\;">Life Church\, 8:45am</span></span><br />\n<span style="font-weight: bold\; language: en-US\;"><span style="font-family: franklin gothic book\;">Leighton Broadcasting BUILD-CON 2017</span></span><span style="language: en-US\;"><span style="font-family: franklin gothic book\;">\, Westridge Mall\, 9am-3pm</span></span><br />\n<span style="font-weight: bold\; language: en-US\;"><span style="font-family: franklin gothic book\;">Squirt A Hockey Tournament\, </span></span><span style="language: en-US\;"><span style="font-family: franklin gothic book\;">Community Arena\, 9am-7pm</span></span><br />\n<span style="font-weight: bold\; language: en-US\;"><span style="font-family: franklin gothic book\;">Backcourt Club Youth Basketball Tournament\, </span></span><span style="language: en-US\;"><span style="font-family: franklin gothic book\;">Kennedy School Gyms</span></span><br />\n<span style="font-weight: bold\; language: en-US\;"><span style="font-family: franklin gothic book\;">Broomball&nbsp\;Tournament</span></span><span style="language: en-US\;"><span style="font-family: franklin gothic book\;">\, Cleveland Rink\, 10am</span></span><br />\n<span style="font-weight: bold\; language: en-US\;"><span style="font-family: franklin gothic book\;">Dart Tournament</span></span><span style="language: en-US\;"><span style="font-family: franklin gothic book\;">\, Eagles\, 11am</span></span><br />\n<span style="font-weight: bold\; language: en-US\;"><span style="font-family: franklin gothic book\;">Refreshments at Ice Rinks </span></span><span style="language: en-US\;"><span style="font-family: franklin gothic book\;">from Downtown Riverfront Council</span></span><br />\n<span style="font-weight: bold\; language: en-US\;"><span style="font-family: franklin gothic book\;">Kaddatz Family Art Table\, </span></span><span style="language: en-US\;"><span style="font-family: franklin gothic book\;">Fergus Falls Library\, 10am-12pm</span></span><br />\n<span style="font-weight: bold\; language: en-US\;"><span style="font-family: franklin gothic book\;">&ldquo\;Frozen&rdquo\; Scavenger Hunt\, </span></span><span style="language: en-US\;"><span style="font-family: franklin gothic book\;">Otter Tail Co. Historical Society\, 10am-2pm</span></span><br />\n<span style="font-weight: bold\; language: en-US\;"><span style="font-family: franklin gothic book\;">Winter Market (Indoor Farmers Market) </span></span><span style="language: en-US\;"><span style="font-family: franklin gothic book\;">WestRidge Mall\, 10am-2pm</span></span><br />\n<span style="font-weight: bold\; language: en-US\;"><span style="font-family: franklin gothic book\;">Kids Events at Winter Market\,</span></span><span style="language: en-US\;"><span style="font-family: franklin gothic book\;"> WestRidge Mall\, 10am-2pm</span></span><br />\n<span style="font-weight: bold\; language: en-US\;"><span style="font-family: franklin gothic book\;">Ice Bowling\, </span></span><span style="language: en-US\;"><span style="font-family: franklin gothic book\;">DeLagoon Park\, 11am-5pm</span></span><br />\n<span style="font-weight: bold\; language: en-US\;"><span style="font-family: franklin gothic book\;">Pedal Fergus Falls &ldquo\;FrostBIKE Ride&rdquo\; </span></span><span style="language: en-US\;"><span style="font-family: franklin gothic book\;">family bike ride\, City Hall\, 2pm</span></span><br />\n<span style="font-weight: bold\; language: en-US\;"><span style="font-family: franklin gothic book\;">Outdoor Skating</span></span><span style="language: en-US\;"><span style="font-family: franklin gothic book\;">\, Cleveland Rink &amp\; Lake Alice\, 12-8pm</span></span><br />\n<span style="font-weight: bold\; language: en-US\;"><span style="font-family: franklin gothic book\;">Bar Bingo &amp\; Meat Raffle</span></span><span style="language: en-US\;"><span style="font-family: franklin gothic book\;">\, VFW Post #612\, 2pm</span></span><br />\n<span style="font-weight: bold\; language: en-US\;"><span style="font-family: franklin gothic book\;">Chamber&rsquo\;s Battle of the Business Bowling</span></span><span style="language: en-US\;"><span style="font-family: franklin gothic book\;">\, Northern Aire Lanes\, 2:30-8:30pm </span></span><br />\n<span style="font-weight: bold\; language: en-US\;"><span style="font-family: franklin gothic book\;">Bingo</span></span><span style="language: en-US\;"><span style="font-family: franklin gothic book\;">\, American Legion\, 6:30pm</span></span><br />\n<span style="font-weight: bold\; language: en-US\;"><span style="font-family: franklin gothic book\;">FFHS Snoball Dance\, </span></span><span style="language: en-US\;"><span style="font-family: franklin gothic book\;">Kennedy Maroon Gym\, 9pm-12am</span></span><br />\n<span style="font-weight: bold\; language: en-US\;"><span style="font-family: franklin gothic book\;">Karaoke &amp\; DJ\, </span></span><span style="language: en-US\;"><span style="font-family: franklin gothic book\;">Mabel Murphy&#39\;s\, 9pm-1am</span></span><br />\n&nbsp\;<br />\n<span style="font-weight: bold\; text-decoration: underline\; text-underline: single\; language: en-US\;"><span style="font-family: franklin gothic book\;"><span style="font-size: 12pt\;">Sunday\, February 5</span></span></span><br />\n<span style="font-weight: bold\; language: en-US\;"><span style="font-family: franklin gothic book\;">Kiwanis Pancake Breakfast</span></span><span style="language: en-US\;"><span style="font-family: franklin gothic book\;">\, YMCA\, 8am-12:30pm</span></span><br />\n<span style="font-weight: bold\; language: en-US\;"><span style="font-family: franklin gothic book\;">Squirt A Hockey Tournament\, </span></span><span style="language: en-US\;"><span style="font-family: franklin gothic book\;">Community Arena\, 9am-7pm</span></span><br />\n<span style="font-weight: bold\; language: en-US\;"><span style="font-family: franklin gothic book\;">Outdoor Skating</span></span><span style="language: en-US\;"><span style="font-family: franklin gothic book\;">\, Cleveland Rink &amp\; Lake Alice\, 12-8pm</span></span><br />\n<span style="font-weight: bold\; language: en-US\;"><span style="font-family: franklin gothic book\;">38</span></span><span style="font-weight: bold\; language: en-US\;"><span style="font-family: franklin gothic book\;"><sup>th</sup></span></span><span style="font-weight: bold\; language: en-US\;"><span style="font-family: franklin gothic book\;"> Annual Sertoma Ice Fishing Derby &amp\; Raffle</span></span><span style="language: en-US\;"><span style="font-family: franklin gothic book\;">\, Pebble Lake\, 1-3pm</span></span><br />\n<span style="font-weight: bold\; language: en-US\;"><span style="font-family: franklin gothic book\;">Texas Hold&#39\;em Tournament</span></span><span style="language: en-US\;"><span style="font-family: franklin gothic book\;">\, Z103 Bar &amp\; Grill\, 2pm</span></span><br />\n<span style="font-weight: bold\; language: en-US\;"><span style="font-family: franklin gothic book\;">&ldquo\;Big Game&rdquo\; Parties:</span></span><span style="language: en-US\;"><span style="font-family: franklin gothic book\;"> VFW\, </span></span><span style="language: en-US\;"><span style="font-family: franklin gothic book\;">Z103 Bar &amp\; Grill\, Socials</span></span><br />\n<span style="font-weight: bold\; language: en-US\;"><span style="font-family: franklin gothic book\;">Hillcrest Youth Super Bowl Party\, </span></span><span style="language: en-US\;"><span style="font-family: franklin gothic book\;">1-10:30pm</span></span><br />\n<span style="font-weight: bold\; language: en-US\;"><span style="font-family: franklin gothic book\;">Indoor Skating</span></span><span style="language: en-US\;"><span style="font-family: franklin gothic book\;">\, Community Arena\, 6-7:30pm</span></span>
LOCATION:Throughout Fergus Falls
UID:e.314.32327
SEQUENCE:3
DTSTAMP:20260424T225458Z
URL:https://business.fergusfalls.com/events/details/frostbite-festival-in-fergus-falls-2017-02-03-2017-32327
END:VEVENT

END:VCALENDAR
