BEGIN:VCALENDAR
VERSION:2.0
PRODID:-//ChamberMaster//Event Calendar 2.0//EN
METHOD:PUBLISH
X-PUBLISHED-TTL:P3D
REFRESH-INTERVAL:P3D
CALSCALE:GREGORIAN
BEGIN:VEVENT
DTSTART;VALUE=DATE:20180202
DTEND;VALUE=DATE:20180205
TRANSP:TRANSPARENT
X-MICROSOFT-CDO-ALLDAYEVENT:TRUE
SUMMARY:Frostbite Festival in Fergus Falls 2018
DESCRIPTION:Enjoy great activities for the whole family during Frostbite Festival February 2-4\, 2018 in Fergus Falls\n\nClick Here to download Frostbite Festival events flyer   \n\nFriday\, February 2\n\nTraveling Exhibit by Jona Brown\, OT Co. Historical Society\, 9am-5pm \n\nLunchtime Open Hockey\, Community Arena\, 11:45am-1:15pm\n\nOutdoor Skating\, Lake Alice\, Channing & Cleveland Rinks\, 3:30-8pm\n\nFF Public Library Stuffed Animal Sleepover\, Public Library\n\nFrozen Cinema-Movies on Lake Alice\, 5:30pm (Kids Movie) and 8pm\n\nVFW Friday Night Fun: Meat Raffle 4pm\; Bingo 5:30pm\; Walleye 5-7pm \n\nHillcrest Boys Basketball v. Underwood\, Hillcrest Student Activities Center\, 5-9pm\n\nOtter Girls Basketball v. Alexandria\, Kennedy Gym\, 5:45pm & 7:15pm\n\nNerf Night for Kids\, YMCA\, 7-9pm (pre registration required)\n\nEagles Friday Night Fun: Bar Bingo & Sandwiches 6pm\, Dart Tournament 7pm\n\nBingo\, American Legion\, 6:30pm\n\nOTC-on-ICE Pre-Party Festivities\, Thumper Pond\n\nOpen Swimming\, Kennedy Pool\, 7-9 pm\n\nGame Night (Trivia & Family Feud)\, Stalker Lake Golf Course Bar & Grill\, 8-10pm\n\nKaraoke & DJ\, Mabel Murphy's\, 9pm-1am\n\n Live Music: Tripwire\, Z103 Bar & Grill\, 9pm-1am  \n\n \n\nSaturday\, February 3\n\nGirls Backcourt Basketball Tournament\, FF Gyms\, 8am-6pm\n\nWinter Farmers Market\, (next to Papa Murphy's) 9am-1pm\n\nLeighton Broadcasting Build-CON 2018\, WestRidge Mall\, 9am-3pm\n\nOTC-on-ICE\, snowmobile ride & vintage show\, golf\, polar plunge\, live music\, OT Lake\, 10am-Mid\n\nDancin' in a Winter Wonderland\, AC4TA Dance Studio (above the Senior Citizen Center) 3pm\n\nKaddatz Family Art Table\, FF Public Library\, 10am-12pm\n\nBroomball Tournament\, Cleveland Rink\, 10am\n\n"Frozen" Scavenger Hunt\, Otter Tail Co. Historical Society\, 10am-2pm\n\nDart Tournament\, Eagles\, 11am\n\n"The Mother of All Trivia Contests" A Center for the Arts\, Noon-10pm\n\nOutdoor Skating\, Lake Alice\, Channing & Cleveland Rinks\, 12-8pm\n\nChamber's Battle of the Business Bowling\, Northern Aire Lanes\, 12:45\, 2:45\, 5:15\, 7:15pm\n\nFrostbite Hike on North Country Trail\, DeLagoon Park\, 1pm\n\nPedal Fergus Falls "FrostBIKE Ride" family bike ride\, City Hall\, 2pm\n\nBar Bingo & Meat Raffle\, VFW Post #612\, 2pm\n\nSpartan Women's & Men's Basketball v. Ridgewater College\, M State\, 1pm & 3pm\n\nBingo\, American Legion\, 6:30pm\n\nPoker Night\, Stalker Lake Golf Course Bar & Grill\, 8-10pm\n\nFFHS Snowball Dance\, Kennedy Maroon Gym\, 8-11pm\n\nKaraoke & DJ\, Mabel Murphy's\, 9pm-1am\n\n\n\nSunday\, February 4\n\nKiwanis Pancake Breakfast\, YMCA\, 8am-12:30pm\n\nOTC-on-ICE: bean bags\, tailgate & big game party\, Otter Tail Lake\, 11am-9pm\n\nOutdoor Skating\, Lake Alice\, Channing & Cleveland Rinks\, 12-8pm\n\n39th Annual Sertoma FREE Ice Fishing Derby & Raffle\, Pebble Lake\, 1-3pm\n\nFirst Ever Hillcrest Iditarod Race\, Hillcrest West Parking Lot\, 2-3pm\n\nTexas Hold'em Tournament\, Z103 Bar & Grill\, 2pm\n\n"Big Game" Parties: VFW\, Z103 Bar & Grill\, Socials\, Otter Tail Lake\n\nHillcrest Youth "Big Game" Party\, Student Union\, 4-9:30pm\n\nIndoor Skating\, Community Arena\, 6-7:30pm
X-ALT-DESC;FMTTYPE=text/html:<span style="font-size: 16px\;"><span style="font-family: verdana\;"><strong>Enjoy great activities for the whole family&nbsp\;during Frostbite Festival February 2-4\, 2018 in Fergus Falls<br />\n<span style="font-size: 14px\;"><a href="https://chambermaster.blob.core.windows.net/userfiles/UserFiles/chambers/314/File/FrostbiteFestival2018EventsAD1.pdf">Click Here to download Frostbite Festival events flyer </a> </span></strong></span><strong> </strong></span><br />\n<span style="text-decoration-line: underline\;"><span style="color: rgb(31\, 73\, 125)\;"><span style="font-family: franklin gothic heavy\;"><span style="font-size: 12pt\;">Friday\, February 2</span></span></span></span><br />\n<span style="font-weight: bold\; language: en-US\;"><span style="font-family: franklin gothic book\;"><span style="font-size: 9.5pt\;">Traveling Exhibit by Jona Brown\, </span></span></span><span style="language: en-US\;"><span style="font-family: franklin gothic book\;"><span style="font-size: 9.5pt\;">OT Co. Historical Society\, 9am-5pm </span></span></span><br />\n<span style="font-weight: bold\; language: en-US\;"><span style="font-family: franklin gothic book\;"><span style="font-size: 9.5pt\;">Lunchtime Open Hockey\, </span></span></span><span style="language: en-US\;"><span style="font-family: franklin gothic book\;"><span style="font-size: 9.5pt\;">Community Arena\, 11:45am-1:15pm</span></span></span><br />\n<span style="font-weight: bold\; language: en-US\;"><span style="font-family: franklin gothic book\;"><span style="font-size: 9.5pt\;">Outdoor Skating\,</span></span></span><span style="language: en-US\;"><span style="font-family: franklin gothic book\;"><span style="font-size: 9.5pt\;"> Lake Alice\, Channing &amp\; Cleveland Rinks\, 3:30-8pm</span></span></span><br />\n<span style="font-weight: bold\; language: en-US\;"><span style="font-family: franklin gothic book\;"><span style="font-size: 9.5pt\;">FF Public Library Stuffed Animal Sleepover\, </span></span></span><span style="language: en-US\;"><span style="font-family: franklin gothic book\;"><span style="font-size: 9.5pt\;">Public Library</span></span></span><br />\n<span style="font-weight: bold\; language: en-US\;"><span style="font-family: franklin gothic book\;"><span style="font-size: 9.5pt\;">Frozen Cinema-Movies on Lake Alice\, </span></span></span><span style="language: en-US\;"><span style="font-family: franklin gothic book\;"><span style="font-size: 9.5pt\;">5:30pm (Kids Movie) and 8pm</span></span></span><br />\n<span style="font-weight: bold\; language: en-US\;"><span style="font-family: franklin gothic book\;"><span style="font-size: 9.5pt\;">VFW Friday Night Fun: </span></span></span><span style="language: en-US\;"><span style="font-family: franklin gothic book\;"><span style="font-size: 9.5pt\;">Meat Raffle 4pm\; Bingo 5:30pm\; Walleye 5-7pm </span></span></span><br />\n<span style="font-weight: bold\; language: en-US\;"><span style="font-family: franklin gothic book\;"><span style="font-size: 9.5pt\;">Hillcrest Boys Basketball v. Underwood</span></span></span><span style="language: en-US\;"><span style="font-family: franklin gothic book\;"><span style="font-size: 9.5pt\;">\, Hillcrest Student Activities Center\, 5-9pm</span></span></span><br />\n<span style="font-weight: bold\; language: en-US\;"><span style="font-family: franklin gothic book\;"><span style="font-size: 9.5pt\;">Otter Girls Basketball </span></span></span><span style="language: en-US\;"><span style="font-family: franklin gothic book\;"><span style="font-size: 9.5pt\;">v. Alexandria\, Kennedy Gym\, 5:45pm &amp\; 7:15pm</span></span></span><br />\n<span style="font-weight: bold\; language: en-US\;"><span style="font-family: franklin gothic book\;"><span style="font-size: 9.5pt\;">Nerf Night for Kids\, </span></span></span><span style="language: en-US\;"><span style="font-family: franklin gothic book\;"><span style="font-size: 9.5pt\;">YMCA\, 7-9pm (pre registration required)</span></span></span><br />\n<span style="font-weight: bold\; language: en-US\;"><span style="font-family: franklin gothic book\;"><span style="font-size: 9.5pt\;">Eagles Friday Night Fun: </span></span></span><span style="language: en-US\;"><span style="font-family: franklin gothic book\;"><span style="font-size: 9.5pt\;">Bar Bingo &amp\; Sandwiches 6pm\, Dart Tournament 7pm</span></span></span><br />\n<span style="font-weight: bold\; language: en-US\;"><span style="font-family: franklin gothic book\;"><span style="font-size: 9.5pt\;">Bingo</span></span></span><span style="language: en-US\;"><span style="font-family: franklin gothic book\;"><span style="font-size: 9.5pt\;">\, American Legion\, 6:30pm</span></span></span><br />\n<span style="font-weight: bold\; language: en-US\;"><span style="font-family: franklin gothic book\;"><span style="font-size: 9.5pt\;">OTC-on-ICE Pre-Party Festivities</span></span></span><span style="language: en-US\;"><span style="font-family: franklin gothic book\;"><span style="font-size: 9.5pt\;">\, Thumper Pond</span></span></span><br />\n<span style="font-weight: bold\; language: en-US\;"><span style="font-family: franklin gothic book\;"><span style="font-size: 9.5pt\;">Open Swimming</span></span></span><span style="language: en-US\;"><span style="font-family: franklin gothic book\;"><span style="font-size: 9.5pt\;">\, Kennedy Pool\, 7-9 pm</span></span></span><br />\n<span style="font-weight: bold\; language: en-US\;"><span style="font-family: franklin gothic book\;"><span style="font-size: 9.5pt\;">Game Night </span></span></span><span style="language: en-US\;"><span style="font-family: franklin gothic book\;"><span style="font-size: 9.5pt\;">(Trivia &amp\; Family Feud)\, Stalker Lake Golf Course Bar &amp\; Grill\, 8-10pm</span></span></span><br />\n<span style="font-weight: bold\; language: en-US\;"><span style="font-family: franklin gothic book\;"><span style="font-size: 9.5pt\;">Karaoke &amp\; DJ\, </span></span></span><span style="language: en-US\;"><span style="font-family: franklin gothic book\;"><span style="font-size: 9.5pt\;">Mabel Murphy&#39\;s\, 9pm-1am<br />\n&#8203\;</span></span></span><span style="font-weight: bold\;"><span franklin="" gothic="" style="font-family:\;"><span style="font-size: 9.5pt\;">Live&nbsp\;Music: Tripwire\,&nbsp\;</span></span></span><span franklin="" gothic="" style="font-family:\;"><span style="font-size: 9.5pt\;">Z103 Bar &amp\; Grill\,&nbsp\;9pm-1am</span></span>&nbsp\;&nbsp\;<br />\n&nbsp\;<br />\n<span style="text-decoration-line: underline\;"><span style="color: rgb(31\, 73\, 125)\;"><span style="font-family: franklin gothic heavy\;"><span style="font-size: 12pt\;">Saturday\, February 3</span></span></span></span><br />\n<span style="font-weight: bold\; language: en-US\;"><span style="font-family: franklin gothic book\;"><span style="font-size: 9.5pt\;">Girls Backcourt Basketball Tournament\, </span></span></span><span style="language: en-US\;"><span style="font-family: franklin gothic book\;"><span style="font-size: 9.5pt\;">FF Gyms\, 8am-6pm</span></span></span><br />\n<span style="font-weight: bold\; language: en-US\;"><span style="font-family: franklin gothic book\;"><span style="font-size: 9.5pt\;">Winter Farmers Market\, </span></span></span><span style="language: en-US\;"><span style="font-family: franklin gothic book\;"><span style="font-size: 9.5pt\;">(next to Papa Murphy&rsquo\;s) 9am-1pm</span></span></span><br />\n<span style="font-weight: bold\; language: en-US\;"><span style="font-family: franklin gothic book\;"><span style="font-size: 9.5pt\;">Leighton Broadcasting Build-CON 2018\, </span></span></span><span style="language: en-US\;"><span style="font-family: franklin gothic book\;"><span style="font-size: 9.5pt\;">WestRidge Mall\, 9am-3pm</span></span></span><br />\n<span style="font-weight: bold\; language: en-US\;"><span style="font-family: franklin gothic book\;"><span style="font-size: 9.5pt\;">OTC-on-ICE\, </span></span></span><span style="language: en-US\;"><span style="font-family: franklin gothic book\;"><span style="font-size: 9.5pt\;">snowmobile ride &amp\; vintage show\, golf\, polar plunge\, live music\, OT Lake\, 10am-Mid</span></span></span><br />\n<span style="font-weight: bold\; language: en-US\;"><span style="font-family: franklin gothic book\;"><span style="font-size: 9.5pt\;">Dancin&rsquo\; in a Winter Wonderland</span></span></span><span style="language: en-US\;"><span style="font-family: franklin gothic book\;"><span style="font-size: 9.5pt\;">\, AC4TA Dance Studio (above the Senior Citizen Center) 3pm</span></span></span><br />\n<span style="font-weight: bold\; language: en-US\;"><span style="font-family: franklin gothic book\;"><span style="font-size: 9.5pt\;">Kaddatz Family Art Table\, </span></span></span><span style="language: en-US\;"><span style="font-family: franklin gothic book\;"><span style="font-size: 9.5pt\;">FF Public Library\, 10am-12pm</span></span></span><br />\n<span style="font-weight: bold\; language: en-US\;"><span style="font-family: franklin gothic book\;"><span style="font-size: 9.5pt\;">Broomball&nbsp\;Tournament</span></span></span><span style="language: en-US\;"><span style="font-family: franklin gothic book\;"><span style="font-size: 9.5pt\;">\, Cleveland Rink\, 10am</span></span></span><br />\n<span style="font-weight: bold\; language: en-US\;"><span style="font-family: franklin gothic book\;"><span style="font-size: 9.5pt\;">&ldquo\;Frozen&rdquo\; Scavenger Hunt\, </span></span></span><span style="language: en-US\;"><span style="font-family: franklin gothic book\;"><span style="font-size: 9.5pt\;">Otter Tail Co. Historical Society\, 10am-2pm</span></span></span><br />\n<span style="font-weight: bold\; language: en-US\;"><span style="font-family: franklin gothic book\;"><span style="font-size: 9.5pt\;">Dart Tournament</span></span></span><span style="language: en-US\;"><span style="font-family: franklin gothic book\;"><span style="font-size: 9.5pt\;">\, Eagles\, 11am</span></span></span><br />\n<span style="font-weight: bold\; language: en-US\;"><span style="font-family: franklin gothic book\;"><span style="font-size: 9.5pt\;">&ldquo\;The Mother of All Trivia Contests&rdquo\; </span></span></span><span style="language: en-US\;"><span style="font-family: franklin gothic book\;"><span style="font-size: 9.5pt\;">A Center for the Arts\, Noon-10pm</span></span></span><br />\n<span style="font-weight: bold\; language: en-US\;"><span style="font-family: franklin gothic book\;"><span style="font-size: 9.5pt\;">Outdoor Skating</span></span></span><span style="language: en-US\;"><span style="font-family: franklin gothic book\;"><span style="font-size: 9.5pt\;">\, Lake Alice\, Channing &amp\; Cleveland Rinks\, 12-8pm</span></span></span><br />\n<span style="font-weight: bold\; language: en-US\;"><span style="font-family: franklin gothic book\;"><span style="font-size: 9.5pt\;">Chamber&rsquo\;s Battle of the Business Bowling</span></span></span><span style="language: en-US\;"><span style="font-family: franklin gothic book\;"><span style="font-size: 9.5pt\;">\, Northern Aire Lanes\, 12:45\, 2:45\, 5:15\, 7:15pm</span></span></span><br />\n<span style="font-weight: bold\; language: en-US\;"><span style="font-family: franklin gothic book\;"><span style="font-size: 9.5pt\;">Frostbite Hike on North Country Trail\, </span></span></span><span style="language: en-US\;"><span style="font-family: franklin gothic book\;"><span style="font-size: 9.5pt\;">DeLagoon Park\, 1pm</span></span></span><br />\n<span style="font-weight: bold\; language: en-US\;"><span style="font-family: franklin gothic book\;"><span style="font-size: 9.5pt\;">Pedal Fergus Falls &ldquo\;FrostBIKE Ride&rdquo\; </span></span></span><span style="language: en-US\;"><span style="font-family: franklin gothic book\;"><span style="font-size: 9.5pt\;">family bike ride\, City Hall\, 2pm</span></span></span><br />\n<span style="font-weight: bold\; language: en-US\;"><span style="font-family: franklin gothic book\;"><span style="font-size: 9.5pt\;">Bar Bingo &amp\; Meat Raffle</span></span></span><span style="language: en-US\;"><span style="font-family: franklin gothic book\;"><span style="font-size: 9.5pt\;">\, VFW Post #612\, 2pm</span></span></span><br />\n<span style="font-weight: bold\; language: en-US\;"><span style="font-family: franklin gothic book\;"><span style="font-size: 9.5pt\;">Spartan Women&rsquo\;s &amp\; Men&rsquo\;s Basketball </span></span></span><span style="language: en-US\;"><span style="font-family: franklin gothic book\;"><span style="font-size: 9.5pt\;">v. Ridgewater College\, M State\, 1pm &amp\; 3pm</span></span></span><br />\n<span style="font-weight: bold\; language: en-US\;"><span style="font-family: franklin gothic book\;"><span style="font-size: 9.5pt\;">Bingo</span></span></span><span style="language: en-US\;"><span style="font-family: franklin gothic book\;"><span style="font-size: 9.5pt\;">\, American Legion\, 6:30pm</span></span></span><br />\n<span style="font-weight: bold\; language: en-US\;"><span style="font-family: franklin gothic book\;"><span style="font-size: 9.5pt\;">Poker Night\, </span></span></span><span style="language: en-US\;"><span style="font-family: franklin gothic book\;"><span style="font-size: 9.5pt\;">Stalker Lake Golf Course Bar &amp\; Grill\, 8-10pm</span></span></span><br />\n<span style="font-weight: bold\; language: en-US\;"><span style="font-family: franklin gothic book\;"><span style="font-size: 9.5pt\;">FFHS Snowball Dance\, </span></span></span><span style="language: en-US\;"><span style="font-family: franklin gothic book\;"><span style="font-size: 9.5pt\;">Kennedy Maroon Gym\, 8-11pm</span></span></span><br />\n<span style="font-weight: bold\; language: en-US\;"><span style="font-family: franklin gothic book\;"><span style="font-size: 9.5pt\;">Karaoke &amp\; DJ\, </span></span></span><span style="language: en-US\;"><span style="font-family: franklin gothic book\;"><span style="font-size: 9.5pt\;">Mabel Murphy&#39\;s\, 9pm-1am</span></span></span><br />\n<br />\n<span style="text-decoration-line: underline\;"><span style="color: rgb(31\, 73\, 125)\;"><span style="font-family: franklin gothic heavy\;"><span style="font-size: 12pt\;">Sunday\, February 4</span></span></span></span><br />\n<span style="font-weight: bold\; language: en-US\;"><span style="font-family: franklin gothic book\;"><span style="font-size: 9.5pt\;">Kiwanis Pancake Breakfast</span></span></span><span style="language: en-US\;"><span style="font-family: franklin gothic book\;"><span style="font-size: 9.5pt\;">\, YMCA\, 8am-12:30pm</span></span></span><br />\n<span style="font-weight: bold\; language: en-US\;"><span style="font-family: franklin gothic book\;"><span style="font-size: 9.5pt\;">OTC-on-ICE: </span></span></span><span style="language: en-US\;"><span style="font-family: franklin gothic book\;"><span style="font-size: 9.5pt\;">bean bags\, tailgate &amp\; big game party\, Otter Tail Lake\, 11am-9pm</span></span></span><br />\n<span style="font-weight: bold\; language: en-US\;"><span style="font-family: franklin gothic book\;"><span style="font-size: 9.5pt\;">Outdoor Skating</span></span></span><span style="language: en-US\;"><span style="font-family: franklin gothic book\;"><span style="font-size: 9.5pt\;">\, Lake Alice\, Channing &amp\; Cleveland Rinks\, 12-8pm</span></span></span><br />\n<span style="font-weight: bold\; language: en-US\;"><span style="font-family: franklin gothic book\;"><span style="font-size: 9.5pt\;">39</span></span></span><span style="font-weight: bold\; language: en-US\;"><span style="font-family: franklin gothic book\;"><span style="font-size: 6.326pt\;"><sup>th</sup></span></span></span><span style="font-weight: bold\; language: en-US\;"><span style="font-family: franklin gothic book\;"><span style="font-size: 9.5pt\;"> Annual Sertoma FREE Ice Fishing Derby &amp\; Raffle</span></span></span><span style="language: en-US\;"><span style="font-family: franklin gothic book\;"><span style="font-size: 9.5pt\;">\, Pebble Lake\, 1-3pm</span></span></span><br />\n<span style="font-weight: bold\; language: en-US\;"><span style="font-family: franklin gothic book\;"><span style="font-size: 9.5pt\;">First Ever Hillcrest Iditarod Race\, </span></span></span><span style="language: en-US\;"><span style="font-family: franklin gothic book\;"><span style="font-size: 9.5pt\;">Hillcrest West Parking Lot\, 2-3pm</span></span></span><br />\n<span style="font-weight: bold\; language: en-US\;"><span style="font-family: franklin gothic book\;"><span style="font-size: 9.5pt\;">Texas Hold&#39\;em Tournament</span></span></span><span style="language: en-US\;"><span style="font-family: franklin gothic book\;"><span style="font-size: 9.5pt\;">\, Z103 Bar &amp\; Grill\, 2pm</span></span></span><br />\n<span style="font-weight: bold\; language: en-US\;"><span style="font-family: franklin gothic book\;"><span style="font-size: 9.5pt\;">&ldquo\;Big Game&rdquo\; Parties:</span></span></span><span style="language: en-US\;"><span style="font-family: franklin gothic book\;"><span style="font-size: 9.5pt\;"> VFW\, Z103 Bar &amp\; Grill\, Socials\, Otter Tail Lake</span></span></span><br />\n<span style="font-weight: bold\; language: en-US\;"><span style="font-family: franklin gothic book\;"><span style="font-size: 9.5pt\;">Hillcrest Youth &ldquo\;Big Game&rdquo\; Party\, </span></span></span><span style="language: en-US\;"><span style="font-family: franklin gothic book\;"><span style="font-size: 9.5pt\;">Student Union\, 4-9:30pm</span></span></span><br />\n<span style="font-weight: bold\; language: en-US\;"><span style="font-family: franklin gothic book\;"><span style="font-size: 9.5pt\;">Indoor Skating\, </span></span></span><span style="language: en-US\;"><span style="font-family: franklin gothic book\;"><span style="font-size: 9.5pt\;">Community Arena\, 6-7:30pm</span></span></span>
LOCATION:Throughout Fergus Falls
UID:e.314.41398
SEQUENCE:3
DTSTAMP:20260424T025511Z
URL:https://business.fergusfalls.com/events/details/frostbite-festival-in-fergus-falls-2018-41398
END:VEVENT

END:VCALENDAR
