BEGIN:VCALENDAR
VERSION:2.0
PRODID:-//ChamberMaster//Event Calendar 2.0//EN
METHOD:PUBLISH
X-PUBLISHED-TTL:P3D
REFRESH-INTERVAL:P3D
CALSCALE:GREGORIAN
BEGIN:VEVENT
DTSTART;VALUE=DATE:20190201
DTEND;VALUE=DATE:20190204
TRANSP:TRANSPARENT
X-MICROSOFT-CDO-ALLDAYEVENT:TRUE
SUMMARY:Frostbite Festival in Fergus Falls 2019
DESCRIPTION:Enjoy great activities for the whole family during Frostbite Festival February 1-3\, 2019 in Fergus Falls\n\nClick Here for Frostbite Festival flyer to print & share \n\nFriday\, February 1\n\nArtist Exhibit: The Faces of Change\, OT Co. Historical Society\, 9am-5pm \n\nLunchtime Open Hockey\, Community Arena\, 11:45am-1:15pm\n\nOutdoor Skating\, Lake Alice\, Channing & Cleveland Rinks\, 3:30-8pm\n\nLeighton Broadcasting Live & Craft Beer Specials\, W. Liquor Store\, 4-6pm\n\nOtter Boys Basketball v. Breckenridge\, 7-8th gr.\, Kennedy Maroon Gym\, 4pm\n\nFamily Snowflake Event\, Trinity Lutheran Church\, 5-7pm\n\nOtter Girls Hockey v. Thief River Falls\, Community Arena\, JV 5:30pm\, Varsity 7:15pm\n\nOtter Girls Gymnastics v. Brainerd\, Roosevelt Gym\, 6pm\n\nVFW Friday Night Fun: Meat Raffle 4pm\; Bingo 5:30pm\; Walleye 5-7pm\n\nLake Region Healthcare's Corporate Cup\, 5:30-8pm\, Kennedy Secondary School\n\nEagles Friday Night Fun: Bar Bingo & Sandwiches 6pm\, Dart Tournament 7pm\n\nBingo\, American Legion\, 6:30pm\n\nOpen Swimming\, Kennedy Pool\, 7-9 pm\n\nLive Music "Pure Country\," VFW Post 612\, 7:30-11pm\n\nNeal McCoy Concert\, Dakota Magic Casino\, 8pm\n\nKaraoke & DJ\, Mabel Murphy's\, 9pm-1am  \n\nLive Music "Miss Behave\," Z103 Bar & Grill\, 9pm-1am  \n\nSaturday\, February 2\n\nGirls Backcourt Basketball Tournament\, FF Gyms\, 8am-6pm\n\nKids Workshop "Heart Candy Box\," Home Depot\, 9am-12pm\n\nWinter Farmers Market\, Riverfront Square\, 9am-1pm\n\nBroomball Tournament\, Cleveland Rink\, 10am\n\nGame of Thrones Scavenger Hunt\, OT Co. Historical Museum\, 10am-2pm\n\nBeauty & the Bric\, The Bric downtown\, 10am-4pm\n\nDart Tournament\, Eagles\, 11am\n\nOutdoor Skating\, Lake Alice\, Channing & Cleveland Rinks\, 12-8pm\n\nChamber's Battle of the Business Bowling\, Northern Aire Lanes\, 12:45-9pm\n\nBar Bingo & Meat Raffle\, VFW Post #612\, 2pm\n\nFrost Bike Ride\, City Hall\, 2pm\n\nSpartan Women's & Men's Basketball v. MN-West CTC\, M State\, 1pm & 3pm\n\nBingo\, American Legion\, 6:30pm\n\nKaraoke & DJ\, Mabel Murphy's\, 9pm-1am\n\nSunday\, February 3\n\nNoon Kiwanis Pancake and Sausage Feed\, YMCA\, 8am-12:30pm \n\nOutdoor Skating\, Lake Alice\, Channing & Cleveland Rinks\, 12-8pm\n\n40th Annual Sertoma FREE Ice Fishing Derby & Raffle\, Pebble Lake\, 1-3pm\n\nBINGO & Meat Raffles\, Stalker Lake Golf Course Bar & Grill\, 2-5pm\n\n"Big Game" Parties: VFW\, Socials Bar & Grill\, Shooting Star Casino\n\nIndoor Skating\, Community Arena\, 6-7:30pm
X-ALT-DESC;FMTTYPE=text/html:<span style="font-family:verdana\;"><strong>Enjoy great activities for the whole family&nbsp\;during Frostbite Festival February 1-3\, 2019 in Fergus Falls<br />\n<a href="https://chambermaster.blob.core.windows.net/userfiles/UserFiles/chambers/314/File/FrostbiteFestival2019EventsFlyer.pdf">Click Here for Frostbite Festival flyer to print &amp\; share</a> </strong></span><br />\n<span style="text-decoration:underline\;text-underline:single\;language:en-US\;"><span style="color:#1F497D\;"><span style="font-family:franklin gothic heavy\;"><span style="font-size:14.0pt\;">Friday\, February 1</span></span></span></span><br />\n<span style="font-weight:bold\;language:en-US\;"><span style="font-family:franklin gothic book\;">Artist Exhibit: The Faces of Change\, </span></span><span style="language:en-US\;"><span style="font-family:franklin gothic book\;">OT Co. Historical Society\, 9am-5pm </span></span><br />\n<span style="font-weight:bold\;language:en-US\;"><span style="font-family:franklin gothic book\;">Lunchtime Open Hockey\, </span></span><span style="language:en-US\;"><span style="font-family:franklin gothic book\;">Community Arena\, 11:45am-1:15pm</span></span><br />\n<span style="font-weight:bold\;language:en-US\;"><span style="font-family:franklin gothic book\;">Outdoor Skating\,</span></span><span style="language:en-US\;"><span style="font-family:franklin gothic book\;"> Lake Alice\, Channing &amp\; Cleveland Rinks\, 3:30-8pm</span></span><br />\n<span style="font-weight:bold\;language:en-US\;"><span style="font-family:franklin gothic book\;">Leighton Broadcasting Live &amp\; Craft Beer Specials\, </span></span><span style="language:en-US\;"><span style="font-family:franklin gothic book\;">W. Liquor Store\, 4-6pm</span></span><br />\n<span style="font-weight:bold\;language:en-US\;"><span style="font-family:franklin gothic book\;">Otter Boys Basketball </span></span><span style="language:en-US\;"><span style="font-family:franklin gothic book\;">v. Breckenridge\, 7-8th gr.\, Kennedy Maroon Gym\, 4pm</span></span><br />\n<span style="font-weight:bold\;language:en-US\;"><span style="font-family:franklin gothic book\;">Family Snowflake Event\, </span></span><span style="language:en-US\;"><span style="font-family:franklin gothic book\;">Trinity Lutheran Church\, 5-7pm</span></span><br />\n<span style="font-weight:bold\;language:en-US\;"><span style="font-family:franklin gothic book\;">Otter Girls Hockey </span></span><span style="language:en-US\;"><span style="font-family:franklin gothic book\;">v. Thief River Falls\, Community Arena\, JV 5:30pm\, Varsity 7:15pm</span></span><br />\n<span style="font-weight:bold\;language:en-US\;"><span style="font-family:franklin gothic book\;">Otter Girls Gymnastics </span></span><span style="language:en-US\;"><span style="font-family:franklin gothic book\;">v. Brainerd\, Roosevelt Gym\, 6pm</span></span><br />\n<span style="font-weight:bold\;language:en-US\;"><span style="font-family:franklin gothic book\;">VFW Friday Night Fun: </span></span><span style="language:en-US\;"><span style="font-family:franklin gothic book\;">Meat Raffle 4pm\; Bingo 5:30pm\; Walleye 5-7pm</span></span><br />\n<span style="font-weight:bold\;language:en-US\;"><span style="font-family:franklin gothic book\;">Lake Region Healthcare&rsquo\;s Corporate Cup</span></span><span style="language:en-US\;"><span style="font-family:franklin gothic book\;">\, 5:30-8pm\, Kennedy Secondary School</span></span><br />\n<span style="font-weight:bold\;language:en-US\;"><span style="font-family:franklin gothic book\;">Eagles Friday Night Fun: </span></span><span style="language:en-US\;"><span style="font-family:franklin gothic book\;">Bar Bingo &amp\; Sandwiches 6pm\, Dart Tournament 7pm</span></span><br />\n<span style="font-weight:bold\;language:en-US\;"><span style="font-family:franklin gothic book\;">Bingo</span></span><span style="language:en-US\;"><span style="font-family:franklin gothic book\;">\, American Legion\, 6:30pm</span></span><br />\n<span style="font-weight:bold\;language:en-US\;"><span style="font-family:franklin gothic book\;">Open Swimming</span></span><span style="language:en-US\;"><span style="font-family:franklin gothic book\;">\, Kennedy Pool\, 7-9 pm</span></span><br />\n<span style="font-weight:bold\;language:en-US\;"><span style="font-family:franklin gothic book\;">Live Music &ldquo\;Pure Country\,&rdquo\; </span></span><span style="language:en-US\;"><span style="font-family:franklin gothic book\;">VFW Post 612\, 7:30-11pm</span></span><br />\n<span style="font-weight:bold\;language:en-US\;"><span style="font-family:franklin gothic book\;">Neal McCoy Concert</span></span><span style="language:en-US\;"><span style="font-family:franklin gothic book\;">\, Dakota Magic Casino\, 8pm</span></span><br />\n<span style="font-weight:bold\;language:en-US\;"><span style="font-family:franklin gothic book\;">Karaoke &amp\; DJ\, </span></span><span style="language:en-US\;"><span style="font-family:franklin gothic book\;">Mabel Murphy&#39\;s\, 9pm-1am</span></span> &nbsp\;<br />\n<span style="font-weight:bold\;language:en-US\;"><span style="font-family:franklin gothic book\;">Live Music &ldquo\;Miss Behave\,&rdquo\; </span></span><span style="language:en-US\;"><span style="font-family:franklin gothic book\;">Z103 Bar &amp\; Grill\, 9pm-1am</span></span> &nbsp\;<br />\n<span style="text-decoration:underline\;text-underline:single\;language:en-US\;"><span style="color:#1F497D\;"><span style="font-family:franklin gothic heavy\;"><span style="font-size:14.0pt\;">Saturday\, February 2</span></span></span></span><br />\n<span style="font-weight:bold\;language:en-US\;"><span style="font-family:franklin gothic book\;">Girls Backcourt Basketball Tournament\, </span></span><span style="language:en-US\;"><span style="font-family:franklin gothic book\;">FF Gyms\, 8am-6pm<br />\n<strong>Kids Workshop &quot\;Heart Candy Box\,&quot\; </strong>Home Depot\, 9am-12pm</span></span><br />\n<span style="font-weight:bold\;language:en-US\;"><span style="font-family:franklin gothic book\;">Winter Farmers Market\, </span></span><span style="language:en-US\;"><span style="font-family:franklin gothic book\;">Riverfront Square\, 9am-1pm</span></span><br />\n<span style="font-weight:bold\;language:en-US\;"><span style="font-family:franklin gothic book\;">Broomball&nbsp\;Tournament</span></span><span style="language:en-US\;"><span style="font-family:franklin gothic book\;">\, Cleveland Rink\, 10am</span></span><br />\n<span style="font-weight:bold\;language:en-US\;"><span style="font-family:franklin gothic book\;">Game of Thrones Scavenger Hunt\, </span></span><span style="language:en-US\;"><span style="font-family:franklin gothic book\;">OT Co. Historical Museum\, 10am-2pm</span></span><br />\n<span style="font-weight:bold\;language:en-US\;"><span style="font-family:franklin gothic book\;">Beauty &amp\; the Bric\, </span></span><span style="language:en-US\;"><span style="font-family:franklin gothic book\;">The Bric downtown\, 10am-4pm</span></span><br />\n<span style="font-weight:bold\;language:en-US\;"><span style="font-family:franklin gothic book\;">Dart Tournament</span></span><span style="language:en-US\;"><span style="font-family:franklin gothic book\;">\, Eagles\, 11am</span></span><br />\n<span style="font-weight:bold\;language:en-US\;"><span style="font-family:franklin gothic book\;">Outdoor Skating</span></span><span style="language:en-US\;"><span style="font-family:franklin gothic book\;">\, Lake Alice\, Channing &amp\; Cleveland Rinks\, 12-8pm</span></span><br />\n<span style="font-weight:bold\;language:en-US\;"><span style="font-family:franklin gothic book\;">Chamber&rsquo\;s Battle of the Business Bowling</span></span><span style="language:en-US\;"><span style="font-family:franklin gothic book\;">\, Northern Aire Lanes\, </span></span><span style="language:en-US\;"><span style="font-family:franklin gothic book\;"><span style="font-size:9.0pt\;">12:45-9pm</span></span></span><br />\n<span style="font-weight:bold\;language:en-US\;"><span style="font-family:franklin gothic book\;">Bar Bingo &amp\; Meat Raffle</span></span><span style="language:en-US\;"><span style="font-family:franklin gothic book\;">\, VFW Post #612\, 2pm</span></span><br />\n<span style="font-weight:bold\;language:en-US\;"><span style="font-family:franklin gothic book\;">Frost Bike Ride\, </span></span><span style="language:en-US\;"><span style="font-family:franklin gothic book\;">City Hall\, 2pm</span></span><br />\n<span style="font-weight:bold\;language:en-US\;"><span style="font-family:franklin gothic book\;">Spartan Women&rsquo\;s &amp\; Men&rsquo\;s Basketball </span></span><span style="language:en-US\;"><span style="font-family:franklin gothic book\;">v. MN-West CTC\, M State\, 1pm &amp\; 3pm</span></span><br />\n<span style="font-weight:bold\;language:en-US\;"><span style="font-family:franklin gothic book\;">Bingo</span></span><span style="language:en-US\;"><span style="font-family:franklin gothic book\;">\, American Legion\, 6:30pm</span></span><br />\n<span style="font-weight:bold\;language:en-US\;"><span style="font-family:franklin gothic book\;">Karaoke &amp\; DJ\, </span></span><span style="language:en-US\;"><span style="font-family:franklin gothic book\;">Mabel Murphy&#39\;s\, 9pm-1am</span></span><br />\n<span style="text-decoration:underline\;text-underline:single\;language:en-US\;"><span style="color:#1F497D\;"><span style="font-family:franklin gothic heavy\;"><span style="font-size:14.0pt\;">Sunday\, February 3</span></span></span></span><br />\n<span style="font-weight:bold\;language:en-US\;"><span style="font-family:franklin gothic book\;">Noon Kiwanis Pancake and Sausage Feed\, </span></span><span style="language:en-US\;"><span style="font-family:franklin gothic book\;">YMCA\, 8am-12:30pm </span></span><br />\n<span style="font-weight:bold\;language:en-US\;"><span style="font-family:franklin gothic book\;">Outdoor Skating</span></span><span style="language:en-US\;"><span style="font-family:franklin gothic book\;">\, Lake Alice\, Channing &amp\; Cleveland Rinks\, 12-8pm</span></span><br />\n<span style="font-weight:bold\;language:en-US\;"><span style="font-family:franklin gothic book\;">40</span></span><span style="font-weight:bold\;language:en-US\;"><span style="font-family:franklin gothic book\;"><sup>th</sup></span></span><span style="font-weight:bold\;language:en-US\;"><span style="font-family:franklin gothic book\;"> Annual Sertoma FREE Ice Fishing Derby &amp\; Raffle</span></span><span style="language:en-US\;"><span style="font-family:franklin gothic book\;">\, Pebble Lake\, 1-3pm</span></span><br />\n<span style="font-weight:bold\;language:en-US\;"><span style="font-family:franklin gothic book\;">BINGO &amp\; Meat Raffles\,</span></span><span style="language:en-US\;"><span style="font-family:franklin gothic book\;"> Stalker Lake Golf Course Bar &amp\; Grill\, 2-5pm</span></span><br />\n<span style="font-weight:bold\;language:en-US\;"><span style="font-family:franklin gothic book\;">&ldquo\;Big Game&rdquo\; Parties:</span></span><span style="language:en-US\;"><span style="font-family:franklin gothic book\;"> VFW\, Socials Bar &amp\; Grill\, Shooting Star Casino</span></span><br />\n<span style="font-weight:bold\;language:en-US\;"><span style="font-family:franklin gothic book\;">Indoor Skating\, </span></span><span style="language:en-US\;"><span style="font-family:franklin gothic book\;">Community Arena\, 6-7:30pm</span></span>
LOCATION:Throughout Fergus Falls
UID:e.314.52105
SEQUENCE:3
DTSTAMP:20260423T093559Z
URL:https://business.fergusfalls.com/events/details/frostbite-festival-in-fergus-falls-2019-52105
END:VEVENT

END:VCALENDAR
