BEGIN:VCALENDAR
VERSION:2.0
PRODID:-//ChamberMaster//Event Calendar 2.0//EN
METHOD:PUBLISH
X-PUBLISHED-TTL:P3D
REFRESH-INTERVAL:P3D
CALSCALE:GREGORIAN
BEGIN:VEVENT
DTSTART:20170204T190000Z
DTEND:20170204T210000Z
X-MICROSOFT-CDO-ALLDAYEVENT:FALSE
SUMMARY:Frostbite Hike
DESCRIPTION:Join North Country Scenic Trail hike for a hike.
X-ALT-DESC;FMTTYPE=text/html:Join North Country Scenic Trail hike for a hike.&nbsp\;
LOCATION:Meet at Delagoon Campground Trailhead.
UID:e.314.43565
SEQUENCE:3
DTSTAMP:20260424T224635Z
URL:https://business.fergusfalls.com/events/details/frostbite-hike-43565
END:VEVENT

END:VCALENDAR
