BEGIN:VCALENDAR
VERSION:2.0
PRODID:-//ChamberMaster//Event Calendar 2.0//EN
METHOD:PUBLISH
X-PUBLISHED-TTL:P3D
REFRESH-INTERVAL:P3D
CALSCALE:GREGORIAN
BEGIN:VEVENT
DTSTART:20180203T190000Z
DTEND:20180203T203000Z
X-MICROSOFT-CDO-ALLDAYEVENT:FALSE
SUMMARY:Frostbite Hike on the North Country Trail
DESCRIPTION:Frostbite Hike on the North Country Trail with members of the local MN Waters & Prairie Chapter. Meet at the DeLagoon Park near the Central Lakes Trail at the Campground parking\, pit toilets\, bike repair station.
X-ALT-DESC;FMTTYPE=text/html:Frostbite Hike on the North Country Trail with members of the local MN Waters &amp\; Prairie Chapter. Meet at the DeLagoon Park near the Central Lakes Trail at the Campground parking\, pit toilets\, bike repair station.
LOCATION:DeLagoon ParkMeet at the DeLagoon Park near the Central Lakes Trail at the Campground parking\, pit toilets\, bike repair station.
UID:e.314.43560
SEQUENCE:3
DTSTAMP:20260424T025414Z
URL:https://business.fergusfalls.com/events/details/frostbite-hike-on-the-north-country-trail-43560
END:VEVENT

END:VCALENDAR
