BEGIN:VCALENDAR
VERSION:2.0
PRODID:-//ChamberMaster//Event Calendar 2.0//EN
METHOD:PUBLISH
X-PUBLISHED-TTL:P3D
REFRESH-INTERVAL:P3D
CALSCALE:GREGORIAN
BEGIN:VEVENT
DTSTART:20170204T160000Z
DTEND:20170204T200000Z
X-MICROSOFT-CDO-ALLDAYEVENT:FALSE
SUMMARY:Frozen Scavenger Hunt
DESCRIPTION:Let it O! Visit the Otter Tail County Museum for a fun and Frozen Scavenger Hunt of the museum galleries. Can you find items like the ones in the Disney movie? Look for: Kristoff's boots\, St. OLAF township\, Wandering Oaken's snowshoes\, ice harvesting tools\, Sven's sleigh and more. Craft and snacks too!
X-ALT-DESC;FMTTYPE=text/html:Let it O! Visit the Otter Tail County Museum for a fun and Frozen Scavenger Hunt of the museum galleries. Can you find items like the ones in the Disney movie? Look for: Kristoff&#39\;s boots\, St. OLAF township\, Wandering Oaken&#39\;s snowshoes\, ice harvesting tools\, Sven&#39\;s sleigh and more. Craft and snacks too!
LOCATION:Otter Tail County Museum
UID:e.314.37250
SEQUENCE:3
DTSTAMP:20260424T224802Z
URL:https://business.fergusfalls.com/events/details/frozen-scavenger-hunt-37250
END:VEVENT

END:VCALENDAR
