BEGIN:VCALENDAR
VERSION:2.0
PRODID:-//ChamberMaster//Event Calendar 2.0//EN
METHOD:PUBLISH
X-PUBLISHED-TTL:P3D
REFRESH-INTERVAL:P3D
CALSCALE:GREGORIAN
BEGIN:VEVENT
DTSTART:20190515T230000Z
DTEND:20190516T010000Z
X-MICROSOFT-CDO-ALLDAYEVENT:FALSE
SUMMARY:FUN RUN WALK
DESCRIPTION:FUN RUN WALK\n\n\n\nProceeds benefiting Breckenridge Active Living Committee
X-ALT-DESC;FMTTYPE=text/html:FUN RUN WALK<br />\n<br />\nProceeds benefiting Breckenridge Active Living Committee
LOCATION:RACE TIME: START LINE 6:00 PM OSPTI
UID:e.314.52820
SEQUENCE:3
DTSTAMP:20260423T050019Z
URL:https://business.fergusfalls.com/events/details/fun-run-walk-52820
END:VEVENT

END:VCALENDAR
