BEGIN:VCALENDAR
VERSION:2.0
PRODID:-//ChamberMaster//Event Calendar 2.0//EN
METHOD:PUBLISH
X-PUBLISHED-TTL:P3D
REFRESH-INTERVAL:P3D
CALSCALE:GREGORIAN
BEGIN:VEVENT
DTSTART;VALUE=DATE:20160212
DTEND;VALUE=DATE:20160214
TRANSP:TRANSPARENT
X-MICROSOFT-CDO-ALLDAYEVENT:TRUE
SUMMARY:GALentines Day at the Market
DESCRIPTION:Come Celebrate GALentines Day at the Market!\n\nCelebrating Girlfriends!\n\nFriday\, Feb 12th & Saturday\, Feb 13th!\n\nWe've hand-selected some awesome gifts to give your GaL PaLs!\n\nRegister you and your Bestfriend for a chance to win a Spa Gift Basket from the Market!
X-ALT-DESC;FMTTYPE=text/html:<strong><span style="color: rgb(75\, 0\, 130)\;"><span style="font-size: 20px\;"><span style="font-family: helvetica\,arial\,sans-serif\;">Come Celebrate GALentines Day at the Market!</span><br />\n<span style="font-family: helvetica\,arial\,sans-serif\;">Celebrating Girlfriends!</span><br />\n<span style="font-family: helvetica\,arial\,sans-serif\;">Friday\, Feb 12th &amp\; Saturday\, Feb 13th!</span><br />\n<span style="font-family: helvetica\,arial\,sans-serif\;">We&#39\;ve hand-selected some awesome gifts to give your GaL PaLs!</span><br />\n<span style="font-family: helvetica\,arial\,sans-serif\;">Register you and your Bestfriend for a chance to win a Spa Gift Basket from the Market!</span></span></span></strong>
LOCATION:The Market
UID:e.314.31111
SEQUENCE:3
DTSTAMP:20260425T201218Z
URL:https://business.fergusfalls.com/events/details/galentines-day-at-the-market-02-12-2016-31111
END:VEVENT

END:VCALENDAR
