BEGIN:VCALENDAR
VERSION:2.0
PRODID:-//ChamberMaster//Event Calendar 2.0//EN
METHOD:PUBLISH
X-PUBLISHED-TTL:P3D
REFRESH-INTERVAL:P3D
CALSCALE:GREGORIAN
BEGIN:VEVENT
DTSTART:20200308T000000Z
DTEND:20200308T030000Z
X-MICROSOFT-CDO-ALLDAYEVENT:FALSE
SUMMARY:Game Night
DESCRIPTION:Federated Church invites everyone to Family Game Night on Saturday\, March 7 from 6-9 p.m. We'll play Bingo\, Board Games\, Cards and more! Feel free to bring your favorite board game. Pizza and refreshments provided!
X-ALT-DESC;FMTTYPE=text/html:Federated Church invites everyone to Family Game Night on Saturday\, March 7 from 6-9 p.m. We&#39\;ll play Bingo\, Board Games\, Cards and more! Feel free to bring your favorite board game. Pizza and refreshments provided!
LOCATION:224 N. Union Avenue
UID:e.314.57237
SEQUENCE:3
DTSTAMP:20260422T142252Z
URL:https://business.fergusfalls.com/events/details/game-night-57237
END:VEVENT

END:VCALENDAR
