BEGIN:VCALENDAR
VERSION:2.0
PRODID:-//ChamberMaster//Event Calendar 2.0//EN
METHOD:PUBLISH
X-PUBLISHED-TTL:P3D
REFRESH-INTERVAL:P3D
CALSCALE:GREGORIAN
BEGIN:VEVENT
DTSTART:20180429T010000Z
DTEND:20180429T030000Z
X-MICROSOFT-CDO-ALLDAYEVENT:FALSE
SUMMARY:Poker Night @ Stalker Lake Bar & Grill
DESCRIPTION:Come out to Stalker Lake Golf Course Bar and Grill for Saturday Night Poker and play poker for free.\n\nCome out early for a great supper from the restaurant.
X-ALT-DESC;FMTTYPE=text/html:Come out to Stalker Lake Golf Course Bar and Grill for Saturday Night Poker and play poker for free.<br />\nCome out early for a great supper from the restaurant.
LOCATION:Stalker Lake Golf Course Bar & Grill 15876 Golf Course Rd. Dalton\, MN
UID:e.314.42954
SEQUENCE:3
DTSTAMP:20260424T000001Z
URL:https://business.fergusfalls.com/events/details/game-night-stalker-lake-bar-grill-04-28-2018-42954
END:VEVENT

END:VCALENDAR
