BEGIN:VCALENDAR
VERSION:2.0
PRODID:-//ChamberMaster//Event Calendar 2.0//EN
METHOD:PUBLISH
X-PUBLISHED-TTL:P3D
REFRESH-INTERVAL:P3D
CALSCALE:GREGORIAN
BEGIN:VEVENT
DTSTART:20180505T010000Z
DTEND:20180505T030000Z
X-MICROSOFT-CDO-ALLDAYEVENT:FALSE
SUMMARY:Game Night @ Stalker Lake Bar & Grill
DESCRIPTION:Come out to Stalker Lake Golf Course Bar and Grill for Friday Night Game Night and play Trivia & Family Feud at 8pm.\n\nCome out early for a great supper from the restaurant.
X-ALT-DESC;FMTTYPE=text/html:Come out to Stalker Lake Golf Course Bar and Grill for Friday Night Game Night and play Trivia &amp\; Family Feud at 8pm.<br />\nCome out early for a great supper from the restaurant.
LOCATION:Stalker Lake Golf Course Bar & Grill 15876 Golf Course Rd. Dalton\, MN
UID:e.314.42926
SEQUENCE:3
DTSTAMP:20260423T225043Z
URL:https://business.fergusfalls.com/events/details/game-night-stalker-lake-bar-grill-05-04-2018-42926
END:VEVENT

END:VCALENDAR
