BEGIN:VCALENDAR
VERSION:2.0
PRODID:-//ChamberMaster//Event Calendar 2.0//EN
METHOD:PUBLISH
X-PUBLISHED-TTL:P3D
REFRESH-INTERVAL:P3D
CALSCALE:GREGORIAN
BEGIN:VEVENT
DTSTART:20190202T160000Z
DTEND:20190202T200000Z
X-MICROSOFT-CDO-ALLDAYEVENT:FALSE
SUMMARY:Game of Thrones Scavenger Hunt
DESCRIPTION:Museum Scavenger Hunt Covers Game of Thrones Winter is Coming! Looking for a fun activity during the Fergus Falls Frostbite Festival? On Sat. Feb. 2 from 10am-2pm\, visit the Otter Tail County Museum and try the new Game of Thrones scavenger hunt in the museum galleries. Find out what's over The Walls of the historical society. Adults- $5\, Wildlings under 12- $2
X-ALT-DESC;FMTTYPE=text/html:Museum Scavenger Hunt Covers Game of Thrones Winter is Coming! Looking for a fun activity during the Fergus Falls Frostbite Festival? On Sat. Feb. 2 from 10am-2pm\, visit the Otter Tail County Museum and try the new Game of Thrones scavenger hunt in the museum galleries. Find out what&rsquo\;s over The Walls of the historical society. Adults- $5\, Wildlings under 12- $2
LOCATION:1110 W. Lincoln Ave. Fergus Falls
UID:e.314.52450
SEQUENCE:3
DTSTAMP:20260423T105402Z
URL:https://business.fergusfalls.com/events/details/game-of-thrones-scavenger-hunt-52450
END:VEVENT

END:VCALENDAR
