BEGIN:VCALENDAR
VERSION:2.0
PRODID:-//ChamberMaster//Event Calendar 2.0//EN
METHOD:PUBLISH
X-PUBLISHED-TTL:P3D
REFRESH-INTERVAL:P3D
CALSCALE:GREGORIAN
BEGIN:VEVENT
DTSTART:20180925T230000Z
DTEND:20180926T030000Z
X-MICROSOFT-CDO-ALLDAYEVENT:FALSE
SUMMARY:Game Time for Adults
DESCRIPTION:Join our board game group for adults to play various strategy games. Meets the fourth Tuesday of each month from 6pm to 10pm. Drop in anytime before 8pm\; the library doors close at that time. Games and refreshments provided\, but feel free to bring your own as well.
X-ALT-DESC;FMTTYPE=text/html:<div class="_63ew" data-testid="event-permalink-details"><span>Join our board game group for adults to play various strategy games. Meets the fourth Tuesday of each month from 6pm to 10pm. Drop in anytime before 8pm\; the library doors close at that time. Games and refreshments provided\, but feel free to bring your own as well.</span></div>\n
LOCATION:Fergus Falls Public Library 1505 Pebble Lake Rd.\, Fergus Falls\, Minnesota 56537
UID:e.314.50001
SEQUENCE:3
DTSTAMP:20260423T165209Z
URL:https://business.fergusfalls.com/events/details/game-time-for-adults-09-25-2018-50001
END:VEVENT

END:VCALENDAR
