BEGIN:VCALENDAR
VERSION:2.0
PRODID:-//ChamberMaster//Event Calendar 2.0//EN
METHOD:PUBLISH
X-PUBLISHED-TTL:P3D
REFRESH-INTERVAL:P3D
CALSCALE:GREGORIAN
BEGIN:VEVENT
DTSTART:20160628T230000Z
DTEND:20160629T030000Z
X-MICROSOFT-CDO-ALLDAYEVENT:FALSE
SUMMARY:Game Time for Adults - Fergus Falls Public Library
DESCRIPTION:A new board game group for adults is starting at the Fergus Falls Public Library. The group will meet the fourth Tuesday of each month from 6pm to 10pm. Drop in anytime before 8pm\; the library doors close at that time. Bring your own game or use ours. We'll have Settlers of Catan\, Lords of Waterdeep\, Elder Sign\, King of New York\, Bang the Dice Game\, Kingsburg\, Carcassonne and more. Call the library with questions at (218) 739-9387. No registration required.
X-ALT-DESC;FMTTYPE=text/html:<span style="color: rgb(0\, 0\, 0)\; font-family: Arial\, sans-serif\; font-size: small\; line-height: 18.2px\; white-space: pre-wrap\;">A new board game group for adults is starting at the Fergus Falls Public Library. The group will meet the fourth Tuesday of each month from 6pm to 10pm. Drop in anytime before 8pm\; the library doors close at that time. Bring your own game or use ours. We&rsquo\;ll have Settlers of Catan\, Lords of Waterdeep\, Elder Sign\, King of New York\, Bang the Dice Game\, Kingsburg\, Carcassonne and more. Call the library with questions at (218) 739-9387. No registration required.</span>
LOCATION:Fergus Falls Public Library\, 205 E Hampden Ave\, Fergus Falls\, MN 56537\, United States
UID:e.314.32846
SEQUENCE:3
DTSTAMP:20260425T130734Z
URL:https://business.fergusfalls.com/events/details/game-time-for-adults-fergus-falls-public-library-06-28-2016-32846
END:VEVENT

END:VCALENDAR
