BEGIN:VCALENDAR
VERSION:2.0
PRODID:-//ChamberMaster//Event Calendar 2.0//EN
METHOD:PUBLISH
X-PUBLISHED-TTL:P3D
REFRESH-INTERVAL:P3D
CALSCALE:GREGORIAN
BEGIN:VEVENT
DTSTART:20160402T123000Z
DTEND:20160402T210000Z
X-MICROSOFT-CDO-ALLDAYEVENT:FALSE
SUMMARY:Garden Day 2016
DESCRIPTION:Garden Day 2016 will be held on Saturday\, April 2nd at Kennedy Secondary School from 9am-4:30pm. Keynote speaker is Beth Berlin "Picture Perfect Landscape: It Takes Work" and there will be 5 sessions to choose from covering many topics.\n\nSponsored by the Master Gardeners of West Otter Tail County\n\n\n\nGarden Day 2016...better than ever!  \n\nVendors open 8 a.m. to 4:30 p.m....Be sure and visit!\n\n 44 speakers  90 different session times from which to choose\n\n $30 for all of Garden Day\n\nBreakfast rolls\, cookies & coffee\n\nA delicious lunch\n\nMarketplace - A chance to see and purchase plants\, garden ornaments\, and gardening products from exhibitors\n\nGardening questions answered at the Master Gardener Booth\n\nAn opportunity to win door prizes
X-ALT-DESC;FMTTYPE=text/html:Garden Day 2016 will be held on Saturday\, April 2nd&nbsp\;at Kennedy Secondary School from 9am-4:30pm. Keynote speaker is Beth Berlin &quot\;Picture Perfect Landscape: It Takes Work&quot\;&nbsp\;and there will be 5 sessions to choose from covering many topics.<br />\nSponsored by the Master Gardeners of West Otter Tail County<br />\n<br />\nGarden Day 2016...better than ever! &nbsp\;<br />\nVendors open 8 a.m. to 4:30 p.m....Be sure and visit!<br />\n&nbsp\;44 speakers &nbsp\;90 different session times from which to choose<br />\n&nbsp\;$30 for all of Garden Day<br />\nBreakfast rolls\, cookies &amp\; coffee<br />\nA delicious lunch<br />\nMarketplace - A chance to see and purchase plants\, garden ornaments\, and gardening products from exhibitors<br />\nGardening questions answered at the Master Gardener Booth<br />\nAn opportunity to win door prizes&nbsp\;
LOCATION:Kennedy Secondary School 601 Randolph Ave. Fergus Falls
UID:e.314.32331
SEQUENCE:3
DTSTAMP:20260425T162910Z
URL:https://business.fergusfalls.com/events/details/garden-day-2016-04-02-2016-32331
END:VEVENT

END:VCALENDAR
