BEGIN:VCALENDAR
VERSION:2.0
PRODID:-//ChamberMaster//Event Calendar 2.0//EN
METHOD:PUBLISH
X-PUBLISHED-TTL:P3D
REFRESH-INTERVAL:P3D
CALSCALE:GREGORIAN
BEGIN:VEVENT
DTSTART:20180620T000000Z
DTEND:20180620T010000Z
X-MICROSOFT-CDO-ALLDAYEVENT:FALSE
SUMMARY:Get Back On Your Bike
DESCRIPTION:Has it been a while since you've last ridden your bike? Do you want to start riding again but don't know where to start? Maybe you're new to biking and need some help getting started. If so\, this is the event for you! This event will be a basic\, beginner level introduction to riding bikes\, geared towards older teens and adults. If you're looking for a similar opportunity for younger kids\, we recommend having them attend the annual bike rodeo at the YMCA. During this event we will cover basic riding techniques and bike safety\, and will take participants on a short ride - whether just down the bike trail\, around the block\, or maybe a little farther. You will need to bring your own bike to this event. If you're not sure if your bike is in good riding condition\, bring it over and we'll take a look. We will be able to provide some basic maintenance and possibly some minor repairs\, but anything beyond that may require a visit to the bike shop. This event will be led by a certified League Cycling Instructor (LCI). Pedal Fergus Falls recommends the use of helmets for all our rides.
X-ALT-DESC;FMTTYPE=text/html:Has it been a while since you&rsquo\;ve last ridden your bike? Do you want to start riding again but don&rsquo\;t know where to start? Maybe you&rsquo\;re new to biking and need some help getting started. If so\, this is the event for you! This event will be a basic\, beginner level introduction to riding bikes\, geared towards older teens and adults. If you&rsquo\;re looking for a similar opportunity for younger kids\, we recommend having them attend the annual bike rodeo at the YMCA. During this event we will cover basic riding techniques and bike safety\, and will take participants on a short ride - whether just down the bike trail\, around the block\, or maybe a little farther. You will need to bring your own bike to this event. If you&rsquo\;re not sure if your bike is in good riding condition\, bring it over and we&rsquo\;ll take a look. We will be able to provide some basic maintenance and possibly some minor repairs\, but anything beyond that may require a visit to the bike shop. This event will be led by a certified League Cycling Instructor (LCI). Pedal Fergus Falls recommends the use of helmets for all our rides.
LOCATION:Broadway Park
UID:e.314.49947
SEQUENCE:3
DTSTAMP:20260423T212518Z
URL:https://business.fergusfalls.com/events/details/get-back-on-your-bike-49947
END:VEVENT

END:VCALENDAR
