BEGIN:VCALENDAR
VERSION:2.0
PRODID:-//ChamberMaster//Event Calendar 2.0//EN
METHOD:PUBLISH
X-PUBLISHED-TTL:P3D
REFRESH-INTERVAL:P3D
CALSCALE:GREGORIAN
BEGIN:VEVENT
DTSTART:20191207T000000Z
DTEND:20191207T030000Z
X-MICROSOFT-CDO-ALLDAYEVENT:FALSE
SUMMARY:Gingerbread House Class for Kids (pre-register)
DESCRIPTION:Instructor:  Linda Dumke\n\nClass #3215-F19\n\n\n\nBring your child or grandchild and celebrate the beginning of the holiday season by baking\, assembling and decorating a festive gingerbread house. Kids love this opportunity to create a masterpiece! Bring to class a rolling pin. $10 supply fee paid to instructor.
X-ALT-DESC;FMTTYPE=text/html:Instructor: &nbsp\;Linda Dumke<br />\nClass #3215-F19<br />\n<br />\nBring your child or grandchild and celebrate the beginning of the holiday season by baking\, assembling and decorating a festive gingerbread house. Kids love this opportunity to create a masterpiece! Bring to class a rolling pin. $10 supply fee paid to instructor.
LOCATION:Kennedy Secondary School - Room 1603\, 601 Randolph Avenue\, Fergus Falls
UID:e.314.26010
SEQUENCE:3
DTSTAMP:20260422T172058Z
URL:https://business.fergusfalls.com/events/details/gingerbread-house-class-for-kids-pre-register-26010
END:VEVENT

END:VCALENDAR
