BEGIN:VCALENDAR
VERSION:2.0
PRODID:-//ChamberMaster//Event Calendar 2.0//EN
METHOD:PUBLISH
X-PUBLISHED-TTL:P3D
REFRESH-INTERVAL:P3D
CALSCALE:GREGORIAN
BEGIN:VEVENT
DTSTART;VALUE=DATE:20160322
DTEND;VALUE=DATE:20160327
TRANSP:TRANSPARENT
X-MICROSOFT-CDO-ALLDAYEVENT:TRUE
SUMMARY:Girls Gone Wild Sale
DESCRIPTION:Girls Gone Wild Sale\n\nHAPPENING THIS WEEK!\n\nStop in and Save!
X-ALT-DESC;FMTTYPE=text/html:<span style="font-size:26px"><span style="color:#4B0082"><strong><span style="font-family:helvetica\,arial\,sans-serif">Girls Gone Wild Sale<br />\nHAPPENING THIS WEEK!<br />\nStop in and Save!</span></strong></span></span>
LOCATION:The Market
UID:e.314.32067
SEQUENCE:3
DTSTAMP:20260425T182830Z
URL:https://business.fergusfalls.com/events/details/girls-gone-wild-sale-03-22-2016-32067
END:VEVENT

END:VCALENDAR
