BEGIN:VCALENDAR
VERSION:2.0
PRODID:-//ChamberMaster//Event Calendar 2.0//EN
METHOD:PUBLISH
X-PUBLISHED-TTL:P3D
REFRESH-INTERVAL:P3D
CALSCALE:GREGORIAN
BEGIN:VEVENT
DTSTART;VALUE=DATE:20200213
DTEND;VALUE=DATE:20200214
TRANSP:TRANSPARENT
X-MICROSOFT-CDO-ALLDAYEVENT:TRUE
SUMMARY:Giving Hearts Day - Fergus Falls
DESCRIPTION:A 24-hour fundraising event benefiting more than 450 charities throughout North Dakota and northwest Minnesota.  - Mayor Ben of Fergus Falls made a public declaration that February 13th will be known as Giving Hearts Day.\n\n\n\nGive Local on Giving Hearts day to this group of Fergus Falls non-profits: Fergus Falls YMCA\, A Wife Like Me\, Productive Alternatives\, Inc\, Lutheran Brethren Seminary\, LB Homes\, &  Health Resources Center.
X-ALT-DESC;FMTTYPE=text/html:<div class="_63ew" data-testid="event-permalink-details"><span>A 24-hour fundraising event benefiting more than 450 charities throughout North Dakota and northwest Minnesota.&nbsp\; - </span>Mayor Ben of Fergus Falls made a public declaration that February 13th will be known as Giving Hearts Day.<br />\n<br />\nGive Local on Giving Hearts day to this group of Fergus Falls non-profits: <a class="profileLink" data-hovercard="/ajax/hovercard/page.php?id=408205825920442&amp\;extragetparams=%7B%22__tn__%22%3A%22%2CdK-R-R%22%2C%22eid%22%3A%22ARBdHkNJcMsBJMaL3VTXCnuYBOod5DzbfH4yAhGTR7s-3SNwAPenosaCeh55vy8ox3pskfV7xQk-cI0j%22%2C%22fref%22%3A%22mentions%22%7D" data-hovercard-prefer-more-content-show="1" href="https://www.facebook.com/fergusfalls.ymca/?__tn__=K-R&amp\;eid=ARBdHkNJcMsBJMaL3VTXCnuYBOod5DzbfH4yAhGTR7s-3SNwAPenosaCeh55vy8ox3pskfV7xQk-cI0j&amp\;fref=mentions&amp\;__xts__%5B0%5D=68.ARC2oF118RlkltvKmvbptyKYrOoXxRoFsml-yQcNGto_ao7hcwACwr6XuEnNZ6HU-LRrAJpYbn6VLG9nGN137GitzZagHgV-NWvMoyLP4FIN4fgin9icyFSXRmGIJIUE8JcFrFspVw5rakY7o4Kyvf75D3NtlMr_KQQTANZ-7fBkokptfPf3QVGeC-jZT0sNJiCDA1wUVAzQ71HEvb8oOoTSDKqIzJdrGW_R72-xLFRCPpWaENngkNCvcUpRkZVB1JxTEEqVyN7rOg1gIaUMLQcRpbSk4EWFALiiV4cFscSMdxRMmtu_E7OBS76-bsuM11mZNF7zf2aCFb1VOZIOfeI"><font color="#0066cc">Fergus Falls YMCA</font></a>\, <a class="profileLink" data-hovercard="/ajax/hovercard/page.php?id=1468686686590299&amp\;extragetparams=%7B%22__tn__%22%3A%22%2CdK-R-R%22%2C%22eid%22%3A%22ARALj3ul2YzrZJeiy8B-MeBDwVjMSyQOTYP41yphZihs0V8TLukIsTrWX4ocjM-UhOFPv7t4VxeUIiYJ%22%2C%22fref%22%3A%22mentions%22%7D" data-hovercard-prefer-more-content-show="1" href="https://www.facebook.com/awifelikeme/?__tn__=K-R&amp\;eid=ARALj3ul2YzrZJeiy8B-MeBDwVjMSyQOTYP41yphZihs0V8TLukIsTrWX4ocjM-UhOFPv7t4VxeUIiYJ&amp\;fref=mentions&amp\;__xts__%5B0%5D=68.ARC2oF118RlkltvKmvbptyKYrOoXxRoFsml-yQcNGto_ao7hcwACwr6XuEnNZ6HU-LRrAJpYbn6VLG9nGN137GitzZagHgV-NWvMoyLP4FIN4fgin9icyFSXRmGIJIUE8JcFrFspVw5rakY7o4Kyvf75D3NtlMr_KQQTANZ-7fBkokptfPf3QVGeC-jZT0sNJiCDA1wUVAzQ71HEvb8oOoTSDKqIzJdrGW_R72-xLFRCPpWaENngkNCvcUpRkZVB1JxTEEqVyN7rOg1gIaUMLQcRpbSk4EWFALiiV4cFscSMdxRMmtu_E7OBS76-bsuM11mZNF7zf2aCFb1VOZIOfeI"><font color="#0066cc">A Wife Like Me</font></a>\, <a class="profileLink" data-hovercard="/ajax/hovercard/page.php?id=221150398012709&amp\;extragetparams=%7B%22__tn__%22%3A%22%2CdK-R-R%22%2C%22eid%22%3A%22ARC30VRWHoMsCZNKjyEM7SeISnaGTK_5XQvblQiJB4NcT4Tem-JbacBVpQ4ZDQ9lKbxgJVsEFo-gJEA7%22%2C%22fref%22%3A%22mentions%22%7D" data-hovercard-prefer-more-content-show="1" href="https://www.facebook.com/ProductiveAlternativesInc/?__tn__=K-R&amp\;eid=ARC30VRWHoMsCZNKjyEM7SeISnaGTK_5XQvblQiJB4NcT4Tem-JbacBVpQ4ZDQ9lKbxgJVsEFo-gJEA7&amp\;fref=mentions&amp\;__xts__%5B0%5D=68.ARC2oF118RlkltvKmvbptyKYrOoXxRoFsml-yQcNGto_ao7hcwACwr6XuEnNZ6HU-LRrAJpYbn6VLG9nGN137GitzZagHgV-NWvMoyLP4FIN4fgin9icyFSXRmGIJIUE8JcFrFspVw5rakY7o4Kyvf75D3NtlMr_KQQTANZ-7fBkokptfPf3QVGeC-jZT0sNJiCDA1wUVAzQ71HEvb8oOoTSDKqIzJdrGW_R72-xLFRCPpWaENngkNCvcUpRkZVB1JxTEEqVyN7rOg1gIaUMLQcRpbSk4EWFALiiV4cFscSMdxRMmtu_E7OBS76-bsuM11mZNF7zf2aCFb1VOZIOfeI"><font color="#0066cc">Productive Alternatives\, Inc</font></a>\, <a class="profileLink" data-hovercard="/ajax/hovercard/page.php?id=154099531281077&amp\;extragetparams=%7B%22__tn__%22%3A%22%2CdK-R-R%22%2C%22eid%22%3A%22ARCUCdFHUIekXhLP7Z7XboYBnagxO70Jd7dOqxOns899QbxvsfDgKilk4BljU3ZHmbxYsTliGYkgICMv%22%2C%22fref%22%3A%22mentions%22%7D" data-hovercard-prefer-more-content-show="1" href="https://www.facebook.com/lbseminary/?__tn__=K-R&amp\;eid=ARCUCdFHUIekXhLP7Z7XboYBnagxO70Jd7dOqxOns899QbxvsfDgKilk4BljU3ZHmbxYsTliGYkgICMv&amp\;fref=mentions&amp\;__xts__%5B0%5D=68.ARC2oF118RlkltvKmvbptyKYrOoXxRoFsml-yQcNGto_ao7hcwACwr6XuEnNZ6HU-LRrAJpYbn6VLG9nGN137GitzZagHgV-NWvMoyLP4FIN4fgin9icyFSXRmGIJIUE8JcFrFspVw5rakY7o4Kyvf75D3NtlMr_KQQTANZ-7fBkokptfPf3QVGeC-jZT0sNJiCDA1wUVAzQ71HEvb8oOoTSDKqIzJdrGW_R72-xLFRCPpWaENngkNCvcUpRkZVB1JxTEEqVyN7rOg1gIaUMLQcRpbSk4EWFALiiV4cFscSMdxRMmtu_E7OBS76-bsuM11mZNF7zf2aCFb1VOZIOfeI"><font color="#0066cc">Lutheran Brethren Seminary</font></a>\, <a class="profileLink" data-hovercard="/ajax/hovercard/page.php?id=552048671510497&amp\;extragetparams=%7B%22__tn__%22%3A%22%2CdK-R-R%22%2C%22eid%22%3A%22ARDEahdL2AySKkEOiPD_D9QOFYV42YiaycjJQvdvj-Ox6RbPtc12IFOmO71KCoKmqpWG783fTprbpSd-%22%2C%22fref%22%3A%22mentions%22%7D" data-hovercard-prefer-more-content-show="1" href="https://www.facebook.com/LBHomes/?__tn__=K-R&amp\;eid=ARDEahdL2AySKkEOiPD_D9QOFYV42YiaycjJQvdvj-Ox6RbPtc12IFOmO71KCoKmqpWG783fTprbpSd-&amp\;fref=mentions&amp\;__xts__%5B0%5D=68.ARC2oF118RlkltvKmvbptyKYrOoXxRoFsml-yQcNGto_ao7hcwACwr6XuEnNZ6HU-LRrAJpYbn6VLG9nGN137GitzZagHgV-NWvMoyLP4FIN4fgin9icyFSXRmGIJIUE8JcFrFspVw5rakY7o4Kyvf75D3NtlMr_KQQTANZ-7fBkokptfPf3QVGeC-jZT0sNJiCDA1wUVAzQ71HEvb8oOoTSDKqIzJdrGW_R72-xLFRCPpWaENngkNCvcUpRkZVB1JxTEEqVyN7rOg1gIaUMLQcRpbSk4EWFALiiV4cFscSMdxRMmtu_E7OBS76-bsuM11mZNF7zf2aCFb1VOZIOfeI"><font color="#0066cc">LB Homes</font></a>\,&nbsp\;&amp\; &nbsp\;<a class="profileLink" data-hovercard="/ajax/hovercard/page.php?id=113040338731423&amp\;extragetparams=%7B%22__tn__%22%3A%22%2CdK-R-R%22%2C%22eid%22%3A%22ARAtGVyP1HQ-tUKaHYm7y_8P07pg1eQ9781z-JAWTEdIjP1PAvRW6qwBahodqjr0A3cnpILBwzYmW4NF%22%2C%22fref%22%3A%22mentions%22%7D" data-hovercard-prefer-more-content-show="1" href="https://www.facebook.com/hrcff/?__tn__=K-R&amp\;eid=ARAtGVyP1HQ-tUKaHYm7y_8P07pg1eQ9781z-JAWTEdIjP1PAvRW6qwBahodqjr0A3cnpILBwzYmW4NF&amp\;fref=mentions&amp\;__xts__%5B0%5D=68.ARC2oF118RlkltvKmvbptyKYrOoXxRoFsml-yQcNGto_ao7hcwACwr6XuEnNZ6HU-LRrAJpYbn6VLG9nGN137GitzZagHgV-NWvMoyLP4FIN4fgin9icyFSXRmGIJIUE8JcFrFspVw5rakY7o4Kyvf75D3NtlMr_KQQTANZ-7fBkokptfPf3QVGeC-jZT0sNJiCDA1wUVAzQ71HEvb8oOoTSDKqIzJdrGW_R72-xLFRCPpWaENngkNCvcUpRkZVB1JxTEEqVyN7rOg1gIaUMLQcRpbSk4EWFALiiV4cFscSMdxRMmtu_E7OBS76-bsuM11mZNF7zf2aCFb1VOZIOfeI"><font color="#0066cc">Health Resources Center</font></a>.<br />\n&nbsp\;</div>\n
LOCATION:
UID:e.314.56265
SEQUENCE:3
DTSTAMP:20260422T142801Z
URL:https://business.fergusfalls.com/events/details/giving-hearts-day-fergus-falls-56265
END:VEVENT

END:VCALENDAR
