BEGIN:VCALENDAR
VERSION:2.0
PRODID:-//ChamberMaster//Event Calendar 2.0//EN
METHOD:PUBLISH
X-PUBLISHED-TTL:P3D
REFRESH-INTERVAL:P3D
CALSCALE:GREGORIAN
BEGIN:VEVENT
DTSTART;VALUE=DATE:20170209
DTEND;VALUE=DATE:20170210
TRANSP:TRANSPARENT
X-MICROSOFT-CDO-ALLDAYEVENT:TRUE
SUMMARY:Giving Hearts Day - LB Homes
DESCRIPTION:Giving Hearts Day is a 24-hour online fundraiser that helps support hospice throughout the year.\n\n\n\nGo to www.GivingHeartsDay.org and search "Lakeland Hospice" for more information.
X-ALT-DESC;FMTTYPE=text/html:<span class="_4n-j _3cht fsl">Giving Hearts Day is a 24-hour online fundraiser that helps support hospice throughout the year.<br />\n<br />\nGo to <a href="http://www.givingheartsday.org/" rel="nofollow nofollow" target="_blank"><font color="#0066cc">www.GivingHeartsDay.org</font></a> and search &quot\;Lakeland Hospice&quot\; for more information.</span>
LOCATION:Thursday\, February 9
UID:e.314.38481
SEQUENCE:3
DTSTAMP:20260425T003333Z
URL:https://business.fergusfalls.com/events/details/giving-hearts-day-lb-homes-38481
END:VEVENT

END:VCALENDAR
