BEGIN:VCALENDAR
VERSION:2.0
PRODID:-//ChamberMaster//Event Calendar 2.0//EN
METHOD:PUBLISH
X-PUBLISHED-TTL:P3D
REFRESH-INTERVAL:P3D
CALSCALE:GREGORIAN
BEGIN:VEVENT
DTSTART:20180428T150000Z
DTEND:20180428T220000Z
X-MICROSOFT-CDO-ALLDAYEVENT:FALSE
SUMMARY:Graffiti Art Workshops
DESCRIPTION:Starting January 2018\, Minneapolis-based SPRAYFINGER founder and artist\, Peyton Scott Russell\, will be conducting monthly workshops at the Fergus Falls Alternative Learning Center. Workshops are open to youth ages 13 to 18 years of age. ALC students have the opportunity for in-school sessions from 9-11:50 am on Jan 10-12\, Feb 21-23\, March 14-16\, & April 25-27.\n\n\n\nThe Graffiti Arts project offers youth from Fergus Falls and the surrounding area an opportunity to learn about graffiti as an art form and includes a variety of art-making techniques\, historical content\, civic engagement\, and social interaction opportunities.\n\n\n\nMonthly workshops will culminate in a week-long summer camp in June (dates TBD)\, and communit...y members will have a chance to engage through exhibitions and a community-based mural.\n\n\n\n*Learn graffiti as a fine art with concepts that speak to it as a movement\, a source of communication\, and the enhancement of community.\n\n\n\n*Learn about the history of Graffiti Art.\n\n\n\n*Create stylized fonts in the graffiti aesthetic using drawing\, collage\, painting/spraypainting techniques.\n\n\n\n*Show your creations in exhibitions\, murals\, and collaborative group projects.\n\n\n\nJanuary 13th- Drawing\n\nFebruary 24th- Collage\n\nMarch 17th- Painting\n\nApril 28th- Mixed Media\n\n\n\nApplication deadline is midnight\, January 8th! Apply now here:\n\n\n\nhttps://kaddatzgalleries.org/get-involved/workshops-events/\n\n\n\nARE YOU AN ALC STUDENT? VISIT THIS LINK TO APPLY FOR IN-SCHOOL SESSIONS! https://kaddatzgalleries.org/graffiti-registration-form/\n\n\n\nThis activity is made possible by the voters of Minnesota through grants from the Lake Region Arts Council\, thanks to a legislative appropriation from the Arts and Cultural Heritage fund.
X-ALT-DESC;FMTTYPE=text/html:<div class="text_exposed_root text_exposed" id="id_5abe4a3f9c2578096746145"><span class="_4n-j _fbReactionComponent__eventDetailsContentTags fsl" data-testid="event-permalink-details">Starting January 2018\, Minneapolis-based SPRAYFINGER founder and artist\, Peyton Scott Russell\, will be conducting monthly workshops at the Fergus Falls Alternative Learning Center. Workshops are open to youth ages 13 to 18 years of age. ALC students have the opportunity for in-school sessions from 9-11:50 am on Jan 10-12\, Feb 21-23\, March 14-16\, &amp\; April 25-27.<br />\n<br />\nThe Graffiti Arts project offers youth from Fergus Falls and the surrounding area an opportunity to learn about graffiti as an art form and includes a variety of art-making techniques\, historical content\, civic engagement\, and social interaction opportunities.<br />\n<br />\nMonthly workshops will culminate in a week-long summer camp in June (dates TBD)\, and communit<span class="text_exposed_hide">...</span><span class="text_exposed_show">y members will have a chance to engage through exhibitions and a community-based mural.<br />\n<br />\n*Learn graffiti as a fine art with concepts that speak to it as a movement\, a source of communication\, and the enhancement of community.<br />\n<br />\n*Learn about the history of Graffiti Art.<br />\n<br />\n*Create stylized fonts in the graffiti aesthetic using drawing\, collage\, painting/spraypainting techniques.<br />\n<br />\n*Show your creations in exhibitions\, murals\, and collaborative group projects.<br />\n<br />\nJanuary 13th- Drawing<br />\nFebruary 24th- Collage<br />\nMarch 17th- Painting<br />\nApril 28th- Mixed Media<br />\n<br />\nApplication deadline is midnight\, January 8th! Apply now here:<br />\n<br />\n<a data-lynx-mode="hover" data-lynx-uri="https://l.facebook.com/l.php?u=https%3A%2F%2Fkaddatzgalleries.org%2Fget-involved%2Fworkshops-events%2F&amp\;h=ATO5jd5wafB7UvIbO4tiL-nvM8XtZ_hAqAKEi3uHtpUIoYX1HqUwvz6ykPo8JNyy2oQB-siEhjI45C67UC-tPzsvDZjv_9qpg-_dEorjrqan7YWe-A" href="https://kaddatzgalleries.org/get-involved/workshops-events/" rel="nofollow" target="_blank"><font color="#0066cc"><span>https://</span><wbr /><span>kaddatzgalleries.org/</span><wbr /><span>get-involved/</span><wbr /></font><font color="#0066cc">workshops-events/</font></a><br />\n<br />\nARE YOU AN ALC STUDENT? VISIT THIS LINK TO APPLY FOR IN-SCHOOL SESSIONS! <a data-lynx-mode="hover" data-lynx-uri="https://l.facebook.com/l.php?u=https%3A%2F%2Fkaddatzgalleries.org%2Fgraffiti-registration-form%2F&amp\;h=ATPE292SpxPlFHP750zKYTKegk68xJPyNIwBGzwJi7EJPXRrKYyubYv6JqO1ki3epyrX72fG3vEPK8sJJfz-IYvNrv1GoFJhx06iHY5Bw0qwPoWbqnNfEEdIXDzDIks" href="https://kaddatzgalleries.org/graffiti-registration-form/" rel="nofollow" target="_blank"><font color="#0066cc"><span>https://</span><wbr /><span>kaddatzgalleries.org/</span><wbr /></font><font color="#0066cc">graffiti-registration-form/</font></a><br />\n<br />\nThis activity is made possible by the voters of Minnesota through grants from the Lake Region Arts Council\, thanks to a legislative appropriation from the Arts and Cultural Heritage fund.</span></span></div>\n
LOCATION:Fergus Falls Alternative Learning Center 340 Friberg Ave\, Fergus Falls\, MN 56537
UID:e.314.47420
SEQUENCE:3
DTSTAMP:20260423T235158Z
URL:https://business.fergusfalls.com/events/details/graffiti-art-workshops-47420
END:VEVENT

END:VCALENDAR
