BEGIN:VCALENDAR
VERSION:2.0
PRODID:-//ChamberMaster//Event Calendar 2.0//EN
METHOD:PUBLISH
X-PUBLISHED-TTL:P3D
REFRESH-INTERVAL:P3D
CALSCALE:GREGORIAN
BEGIN:VEVENT
DTSTART:20200311T150000Z
DTEND:20200311T180000Z
X-MICROSOFT-CDO-ALLDAYEVENT:FALSE
SUMMARY:Grand Opening: Farmers Insurance
DESCRIPTION:Join us for the Grand Opening Celebration of the new Farmers Insurance agency in Fergus Falls. Stop by and say HI and enjoy a FREE lunch.\n\nAgent Jessica Lopez is proud to be your local agent\, offer more discounts than others.\n\nGet the most value for your coverage: auto\, life\, snowmobiles\, home\, business\, ATVs\, boats & motorcycles.
X-ALT-DESC;FMTTYPE=text/html:Join us for the Grand Opening Celebration of the new Farmers Insurance agency in Fergus Falls. Stop by and say HI and enjoy a FREE lunch.<br />\nAgent Jessica Lopez is proud to be your local agent\, offer more discounts than others.<br />\nGet the most value for your coverage: auto\, life\, snowmobiles\, home\, business\, ATVs\, boats &amp\; motorcycles.
LOCATION:Farmers Insurance - Jessica Lopez Agency 1105 W. Lincoln Ave. Fergus Falls\, MN (next to Papa Murphy's)
UID:e.314.57213
SEQUENCE:3
DTSTAMP:20260422T130550Z
URL:https://business.fergusfalls.com/events/details/grand-opening-farmers-insurance-57213
END:VEVENT

END:VCALENDAR
