BEGIN:VCALENDAR
VERSION:2.0
PRODID:-//ChamberMaster//Event Calendar 2.0//EN
METHOD:PUBLISH
X-PUBLISHED-TTL:P3D
REFRESH-INTERVAL:P3D
CALSCALE:GREGORIAN
BEGIN:VEVENT
DTSTART:20181001T120000Z
DTEND:20181001T230000Z
X-MICROSOFT-CDO-ALLDAYEVENT:FALSE
SUMMARY:Grand Opening Lincoln Nutrition
DESCRIPTION:Excited to announce Grand Opening of our Fergus Falls Location on October 1st!!!!!!!
X-ALT-DESC;FMTTYPE=text/html:<div class="_63ew" data-testid="event-permalink-details"><span>Excited to announce Grand Opening of our Fergus Falls Location&nbsp\;on October 1st!!!!!!!</span></div>\n
LOCATION:Lincoln Nutrition 122 East Lincoln Ave\, Fergus Falls
UID:e.314.50382
SEQUENCE:3
DTSTAMP:20260423T163620Z
URL:https://business.fergusfalls.com/events/details/grand-opening-lincoln-nutrition-50382
END:VEVENT

END:VCALENDAR
