BEGIN:VCALENDAR
VERSION:2.0
PRODID:-//ChamberMaster//Event Calendar 2.0//EN
METHOD:PUBLISH
X-PUBLISHED-TTL:P3D
REFRESH-INTERVAL:P3D
CALSCALE:GREGORIAN
BEGIN:VEVENT
DTSTART:20191130T140000Z
DTEND:20191130T220000Z
X-MICROSOFT-CDO-ALLDAYEVENT:FALSE
SUMMARY:Grand Opening: Liza Jayne's Home Decor & Gifts
DESCRIPTION:Just in time for the holidays\, please join us in celebrating the Grand Opening of Liza Jayne's Home Decor & Gifts --a brand new store in Fergus Falls - featuring vintage\, modern and unique home decor and gift items.\n\nA great shopping experience awaits you!
X-ALT-DESC;FMTTYPE=text/html:Just in time for the holidays\, please join us in celebrating the Grand Opening of Liza Jayne&#39\;s Home Decor &amp\; Gifts --a brand new store in Fergus Falls - featuring vintage\, modern and unique home decor and gift items.<br />\nA great shopping experience awaits you!
LOCATION:Liza Jayne's Home Decor & Gifts 120 E. Junius Ave. (near Security State Bank) Fergus Falls\, MN
UID:e.314.55815
SEQUENCE:3
DTSTAMP:20260422T190707Z
URL:https://business.fergusfalls.com/events/details/grand-opening-liza-jayne-s-home-decor-gifts-55815
END:VEVENT

END:VCALENDAR
