BEGIN:VCALENDAR
VERSION:2.0
PRODID:-//ChamberMaster//Event Calendar 2.0//EN
METHOD:PUBLISH
X-PUBLISHED-TTL:P3D
REFRESH-INTERVAL:P3D
CALSCALE:GREGORIAN
BEGIN:VEVENT
DTSTART:20191129T130000Z
DTEND:20191130T040000Z
X-MICROSOFT-CDO-ALLDAYEVENT:FALSE
SUMMARY:Grand Opening: McDonald's Fergus Falls
DESCRIPTION:Join us as we celebrate the GRAND OPENING of the all-new Fergus Falls McDonald's. You will be amazed & impressed with the brand new restaurant.
X-ALT-DESC;FMTTYPE=text/html:Join us as we celebrate the GRAND OPENING of the all-new Fergus Falls McDonald&#39\;s. You will be amazed &amp\; impressed with the brand new restaurant.
LOCATION:McDonald's 2085 College Way Fergus Falls\, MN
UID:e.314.55908
SEQUENCE:3
DTSTAMP:20260422T190056Z
URL:https://business.fergusfalls.com/events/details/grand-opening-mcdonald-s-fergus-falls-55908
END:VEVENT

END:VCALENDAR
